Workbook

Sheet 集計シート
B1: 【各種集計】 | F1: すべてのシートにおいて、列の追加や削除、シート名変更はしないでください。計算式が崩れます。 ※「集計シート」で入力する場所は「目標粗利」「休日日数」のみです。他に直接の入力はしないでください。 | AA1: → 月末のみ手入力 | AB1: =TODAY() -> 46228 | AD1: =DAY(AB1) -> 25
A2: 目標粗利 | B2: 3000000 | F2: ←半角数字入力 | H2: 達成率 | I2: =AH17 -> 0 | K2: 粗利 | L2: =AG13 -> 0 | O2: 予想着地 | Q2: =(L2/AD1)*(AC2-Y2) -> 0 | T2: 進捗 | U2: =Q2/B2 -> 0 | X2: 休日 日数 | Y2: 0 | Z2: ←半角数字 | AB2: 稼働日数 | AC2: =DAY(EOMONTH(B3,0)) -> 31 | AD2: 予定稼働日数 | AE2: =AC2-Y2 -> 31 | AF2: ←自動。入力不可 | AI2: =TEXT(AF9,"d") -> 31
A3: 日付 | B3: 46235 | C3: =IF(B3<>"",IF(DAY(B3+1)=1,"",B3+1)) -> 46236 | D3: =IF(C3<>"",IF(DAY(C3+1)=1,"",C3+1)) -> 46237 | E3: =IF(D3<>"",IF(DAY(D3+1)=1,"",D3+1)) -> 46238 | F3: =IF(E3<>"",IF(DAY(E3+1)=1,"",E3+1)) -> 46239 | G3: =IF(F3<>"",IF(DAY(F3+1)=1,"",F3+1)) -> 46240 | H3: =IF(G3<>"",IF(DAY(G3+1)=1,"",G3+1)) -> 46241 | I3: =IF(H3<>"",IF(DAY(H3+1)=1,"",H3+1)) -> 46242 | J3: =IF(I3<>"",IF(DAY(I3+1)=1,"",I3+1)) -> 46243 | ... AF3: =IF(AE3<>"",IF(DAY(AE3+1)=1,"",AE3+1)) -> 46265
A4: 曜日 | B4: =TEXT(B3,"(aaa)") -> (土) | C4: =TEXT(C3,"(aaa)") -> (日) | D4: =TEXT(D3,"(aaa)") -> (月) | E4: =TEXT(E3,"(aaa)") -> (火) | F4: =TEXT(F3,"(aaa)") -> (水) | G4: =TEXT(G3,"(aaa)") -> (木) | H4: =TEXT(H3,"(aaa)") -> (金) | I4: =TEXT(I3,"(aaa)") -> (土) | ... AF4: =TEXT(AF3,"(aaa)") -> (月)
A5: 天気(午前) | B5: =来店数・天気・気温・スタッフ別接客数!$I4 -> 0 | C5: =来店数・天気・気温・スタッフ別接客数!$I5 -> 0 | D5: =来店数・天気・気温・スタッフ別接客数!$I6 -> 0 | E5: =来店数・天気・気温・スタッフ別接客数!$I7 -> 0 | F5: =来店数・天気・気温・スタッフ別接客数!$I8 -> 0 | G5: =来店数・天気・気温・スタッフ別接客数!$I9 -> 0 | H5: =来店数・天気・気温・スタッフ別接客数!$I10 -> 0 | I5: =来店数・天気・気温・スタッフ別接客数!$I11 -> 0 | J5: =来店数・天気・気温・スタッフ別接客数!$I12 -> 0 | K5: =来店数・天気・気温・スタッフ別接客数!$I13 -> 0 | L5: =来店数・天気・気温・スタッフ別接客数!$I14 -> 0 | M5: =来店数・天気・気温・スタッフ別接客数!$I15 -> 0 | N5: =来店数・天気・気温・スタッフ別接客数!$I16 -> 0 | O5: =来店数・天気・気温・スタッフ別接客数!$I17 -> 0 | P5: =来店数・天気・気温・スタッフ別接客数!$I18 -> 0 | Q5: =来店数・天気・気温・スタッフ別接客数!$I19 -> 0 | R5: =来店数・天気・気温・スタッフ別接客数!$I20 -> 0 | S5: =来店数・天気・気温・スタッフ別接客数!$I21 -> 0 | T5: =来店数・天気・気温・スタッフ別接客数!$I22 -> 0 | U5: =来店数・天気・気温・スタッフ別接客数!$I23 -> 0 | V5: =来店数・天気・気温・スタッフ別接客数!$I24 -> 0 | W5: =来店数・天気・気温・スタッフ別接客数!$I25 -> 0 | X5: =来店数・天気・気温・スタッフ別接客数!$I26 -> 0 | Y5: =来店数・天気・気温・スタッフ別接客数!$I27 -> 0 | Z5: =来店数・天気・気温・スタッフ別接客数!$I28 -> 0 | AA5: =来店数・天気・気温・スタッフ別接客数!$I29 -> 0 | AB5: =来店数・天気・気温・スタッフ別接客数!$I30 -> 0 | AC5: =来店数・天気・気温・スタッフ別接客数!$I31 -> 0 | AD5: =来店数・天気・気温・スタッフ別接客数!$I32 -> 0 | AE5: =来店数・天気・気温・スタッフ別接客数!$I33 -> 0 | AF5: =来店数・天気・気温・スタッフ別接客数!$I34 -> 0
A6: 天気(午後) | B6: =来店数・天気・気温・スタッフ別接客数!$J4 -> 0 | C6: =来店数・天気・気温・スタッフ別接客数!$J5 -> 0 | D6: =来店数・天気・気温・スタッフ別接客数!$J6 -> 0 | E6: =来店数・天気・気温・スタッフ別接客数!$J7 -> 0 | F6: =来店数・天気・気温・スタッフ別接客数!$J8 -> 0 | G6: =来店数・天気・気温・スタッフ別接客数!$J9 -> 0 | H6: =来店数・天気・気温・スタッフ別接客数!$J10 -> 0 | I6: =来店数・天気・気温・スタッフ別接客数!$J11 -> 0 | J6: =来店数・天気・気温・スタッフ別接客数!$J12 -> 0 | K6: =来店数・天気・気温・スタッフ別接客数!$J13 -> 0 | L6: =来店数・天気・気温・スタッフ別接客数!$J14 -> 0 | M6: =来店数・天気・気温・スタッフ別接客数!$J15 -> 0 | N6: =来店数・天気・気温・スタッフ別接客数!$J16 -> 0 | O6: =来店数・天気・気温・スタッフ別接客数!$J17 -> 0 | P6: =来店数・天気・気温・スタッフ別接客数!$J18 -> 0 | Q6: =来店数・天気・気温・スタッフ別接客数!$J19 -> 0 | R6: =来店数・天気・気温・スタッフ別接客数!$J20 -> 0 | S6: =来店数・天気・気温・スタッフ別接客数!$J21 -> 0 | T6: =来店数・天気・気温・スタッフ別接客数!$J22 -> 0 | U6: =来店数・天気・気温・スタッフ別接客数!$J23 -> 0 | V6: =来店数・天気・気温・スタッフ別接客数!$J24 -> 0 | W6: =来店数・天気・気温・スタッフ別接客数!$J25 -> 0 | X6: =来店数・天気・気温・スタッフ別接客数!$J26 -> 0 | Y6: =来店数・天気・気温・スタッフ別接客数!$J27 -> 0 | Z6: =来店数・天気・気温・スタッフ別接客数!$J28 -> 0 | AA6: =来店数・天気・気温・スタッフ別接客数!$J29 -> 0 | AB6: =来店数・天気・気温・スタッフ別接客数!$J30 -> 0 | AC6: =来店数・天気・気温・スタッフ別接客数!$J31 -> 0 | AD6: =来店数・天気・気温・スタッフ別接客数!$J32 -> 0 | AE6: =来店数・天気・気温・スタッフ別接客数!$J33 -> 0 | AF6: =来店数・天気・気温・スタッフ別接客数!$J34 -> 0
A7: 気温(最高) | B7: =来店数・天気・気温・スタッフ別接客数!$K4 -> 0 | C7: =来店数・天気・気温・スタッフ別接客数!$K5 -> 0 | D7: =来店数・天気・気温・スタッフ別接客数!$K6 -> 0 | E7: =来店数・天気・気温・スタッフ別接客数!$K7 -> 0 | F7: =来店数・天気・気温・スタッフ別接客数!$K8 -> 0 | G7: =来店数・天気・気温・スタッフ別接客数!$K9 -> 0 | H7: =来店数・天気・気温・スタッフ別接客数!$K10 -> 0 | I7: =来店数・天気・気温・スタッフ別接客数!$K11 -> 0 | J7: =来店数・天気・気温・スタッフ別接客数!$K12 -> 0 | K7: =来店数・天気・気温・スタッフ別接客数!$K13 -> 0 | L7: =来店数・天気・気温・スタッフ別接客数!$K14 -> 0 | M7: =来店数・天気・気温・スタッフ別接客数!$K15 -> 0 | N7: =来店数・天気・気温・スタッフ別接客数!$K16 -> 0 | O7: =来店数・天気・気温・スタッフ別接客数!$K17 -> 0 | P7: =来店数・天気・気温・スタッフ別接客数!$K18 -> 0 | Q7: =来店数・天気・気温・スタッフ別接客数!$K19 -> 0 | R7: =来店数・天気・気温・スタッフ別接客数!$K20 -> 0 | S7: =来店数・天気・気温・スタッフ別接客数!$K21 -> 0 | T7: =来店数・天気・気温・スタッフ別接客数!$K22 -> 0 | U7: =来店数・天気・気温・スタッフ別接客数!$K23 -> 0 | V7: =来店数・天気・気温・スタッフ別接客数!$K24 -> 0 | W7: =来店数・天気・気温・スタッフ別接客数!$K25 -> 0 | X7: =来店数・天気・気温・スタッフ別接客数!$K26 -> 0 | Y7: =来店数・天気・気温・スタッフ別接客数!$K27 -> 0 | Z7: =来店数・天気・気温・スタッフ別接客数!$K28 -> 0 | AA7: =来店数・天気・気温・スタッフ別接客数!$K29 -> 0 | AB7: =来店数・天気・気温・スタッフ別接客数!$K30 -> 0 | AC7: =来店数・天気・気温・スタッフ別接客数!$K31 -> 0 | AD7: =来店数・天気・気温・スタッフ別接客数!$K32 -> 0 | AE7: =来店数・天気・気温・スタッフ別接客数!$K33 -> 0 | AF7: =来店数・天気・気温・スタッフ別接客数!$K34 -> 0
A8: 気温(最低) | B8: =来店数・天気・気温・スタッフ別接客数!$L4 -> 0 | C8: =来店数・天気・気温・スタッフ別接客数!$L5 -> 0 | D8: =来店数・天気・気温・スタッフ別接客数!$L6 -> 0 | E8: =来店数・天気・気温・スタッフ別接客数!$L7 -> 0 | F8: =来店数・天気・気温・スタッフ別接客数!$L8 -> 0 | G8: =来店数・天気・気温・スタッフ別接客数!$L9 -> 0 | H8: =来店数・天気・気温・スタッフ別接客数!$L10 -> 0 | I8: =来店数・天気・気温・スタッフ別接客数!$L11 -> 0 | J8: =来店数・天気・気温・スタッフ別接客数!$L12 -> 0 | K8: =来店数・天気・気温・スタッフ別接客数!$L13 -> 0 | L8: =来店数・天気・気温・スタッフ別接客数!$L14 -> 0 | M8: =来店数・天気・気温・スタッフ別接客数!$L15 -> 0 | N8: =来店数・天気・気温・スタッフ別接客数!$L16 -> 0 | O8: =来店数・天気・気温・スタッフ別接客数!$L17 -> 0 | P8: =来店数・天気・気温・スタッフ別接客数!$L18 -> 0 | Q8: =来店数・天気・気温・スタッフ別接客数!$L19 -> 0 | R8: =来店数・天気・気温・スタッフ別接客数!$L20 -> 0 | S8: =来店数・天気・気温・スタッフ別接客数!$L21 -> 0 | T8: =来店数・天気・気温・スタッフ別接客数!$L22 -> 0 | U8: =来店数・天気・気温・スタッフ別接客数!$L23 -> 0 | V8: =来店数・天気・気温・スタッフ別接客数!$L24 -> 0 | W8: =来店数・天気・気温・スタッフ別接客数!$L25 -> 0 | X8: =来店数・天気・気温・スタッフ別接客数!$L26 -> 0 | Y8: =来店数・天気・気温・スタッフ別接客数!$L27 -> 0 | Z8: =来店数・天気・気温・スタッフ別接客数!$L28 -> 0 | AA8: =来店数・天気・気温・スタッフ別接客数!$L29 -> 0 | AB8: =来店数・天気・気温・スタッフ別接客数!$L30 -> 0 | AC8: =来店数・天気・気温・スタッフ別接客数!$L31 -> 0 | AD8: =来店数・天気・気温・スタッフ別接客数!$L32 -> 0 | AE8: =来店数・天気・気温・スタッフ別接客数!$L33 -> 0 | AF8: =来店数・天気・気温・スタッフ別接客数!$L34 -> 0
A9: 日付 | B9: =B3 -> 46235 | C9: =C3 -> 46236 | D9: =D3 -> 46237 | E9: =E3 -> 46238 | F9: =F3 -> 46239 | G9: =G3 -> 46240 | H9: =H3 -> 46241 | I9: =I3 -> 46242 | ... AF9: =AF3 -> 46265
A10: 曜日 | B10: =B4 -> (土) | C10: =C4 -> (日) | D10: =D4 -> (月) | E10: =E4 -> (火) | F10: =F4 -> (水) | G10: =G4 -> (木) | H10: =H4 -> (金) | I10: =I4 -> (土) | ... AF10: =AF4 -> (月) | AG10: 累計 | AH10: 目標粗利
A11: 売上 | B11: =B12+B13 -> 0 | C11: =C12+C13 -> 0 | D11: =D12+D13 -> 0 | E11: =E12+E13 -> 0 | F11: =F12+F13 -> 0 | G11: =G12+G13 -> 0 | H11: =H12+H13 -> 0 | I11: =I12+I13 -> 0 | ... AG11: =AG12+AG13 -> 0
A12: 買取金額 | B12: =SUMIFS(日計表!$T$5:$T$2004,日計表!$B$5:$B$2004,集計シート!B3) -> 0 | C12: =SUMIFS(日計表!$T$5:$T$2004,日計表!$B$5:$B$2004,集計シート!C3) -> 0 | D12: =SUMIFS(日計表!$T$5:$T$2004,日計表!$B$5:$B$2004,集計シート!D3) -> 0 | E12: =SUMIFS(日計表!$T$5:$T$2004,日計表!$B$5:$B$2004,集計シート!E3) -> 0 | F12: =SUMIFS(日計表!$T$5:$T$2004,日計表!$B$5:$B$2004,集計シート!F3) -> 0 | G12: =SUMIFS(日計表!$T$5:$T$2004,日計表!$B$5:$B$2004,集計シート!G3) -> 0 | H12: =SUMIFS(日計表!$T$5:$T$2004,日計表!$B$5:$B$2004,集計シート!H3) -> 0 | I12: =SUMIFS(日計表!$T$5:$T$2004,日計表!$B$5:$B$2004,集計シート!I3) -> 0 | ... AF12: =SUMIFS(日計表!$T$5:$T$2004,日計表!$B$5:$B$2004,集計シート!AF3) -> 0 | AG12: =SUM(B12:AF12) -> 0
A13: 粗利 | B13: =SUMIFS(日計表!$V$5:$V$2004,日計表!$B$5:$B$2004,集計シート!B3) -> 0 | C13: =SUMIFS(日計表!$V$5:$V$2004,日計表!$B$5:$B$2004,集計シート!C3) -> 0 | D13: =SUMIFS(日計表!$V$5:$V$2004,日計表!$B$5:$B$2004,集計シート!D3) -> 0 | E13: =SUMIFS(日計表!$V$5:$V$2004,日計表!$B$5:$B$2004,集計シート!E3) -> 0 | F13: =SUMIFS(日計表!$V$5:$V$2004,日計表!$B$5:$B$2004,集計シート!F3) -> 0 | G13: =SUMIFS(日計表!$V$5:$V$2004,日計表!$B$5:$B$2004,集計シート!G3) -> 0 | H13: =SUMIFS(日計表!$V$5:$V$2004,日計表!$B$5:$B$2004,集計シート!H3) -> 0 | I13: =SUMIFS(日計表!$V$5:$V$2004,日計表!$B$5:$B$2004,集計シート!I3) -> 0 | ... AF13: =SUMIFS(日計表!$V$5:$V$2004,日計表!$B$5:$B$2004,集計シート!AF3) -> 0 | AG13: =SUM(B13:AF13) -> 0 | AH13: =B2 -> 3000000
A14: 粗利率 | B14: =IF(ISERROR(B13/B11),0,B13/B11) -> 0 | C14: =IF(ISERROR(C13/C11),0,C13/C11) -> 0 | D14: =IF(ISERROR(D13/D11),0,D13/D11) -> 0 | E14: =IF(ISERROR(E13/E11),0,E13/E11) -> 0 | F14: =IF(ISERROR(F13/F11),0,F13/F11) -> 0 | G14: =IF(ISERROR(G13/G11),0,G13/G11) -> 0 | H14: =IF(ISERROR(H13/H11),0,H13/H11) -> 0 | I14: =IF(ISERROR(I13/I11),0,I13/I11) -> 0 | ... AG14: =IF(ISERROR(AG13/AG11),0,AG13/AG11) -> 0
A15: 粗利単価 | B15: =B13/B17 -> #DIV/0! | C15: =C13/C17 -> #DIV/0! | D15: =D13/D17 -> #DIV/0! | E15: =E13/E17 -> #DIV/0! | F15: =F13/F17 -> #DIV/0! | G15: =G13/G17 -> #DIV/0! | H15: =H13/H17 -> #DIV/0! | I15: =I13/I17 -> #DIV/0! | ... AG15: =AG13/AG17 -> #DIV/0!
A16: 来店数 | B16: =来店数・天気・気温・スタッフ別接客数!$H4 -> 0 | C16: =来店数・天気・気温・スタッフ別接客数!$H5 -> 0 | D16: =来店数・天気・気温・スタッフ別接客数!$H6 -> 0 | E16: =来店数・天気・気温・スタッフ別接客数!$H7 -> 0 | F16: =来店数・天気・気温・スタッフ別接客数!$H8 -> 0 | G16: =来店数・天気・気温・スタッフ別接客数!$H9 -> 0 | H16: =来店数・天気・気温・スタッフ別接客数!$H10 -> 0 | I16: =来店数・天気・気温・スタッフ別接客数!$H11 -> 0 | J16: =来店数・天気・気温・スタッフ別接客数!$H12 -> 0 | K16: =来店数・天気・気温・スタッフ別接客数!$H13 -> 0 | L16: =来店数・天気・気温・スタッフ別接客数!$H14 -> 0 | M16: =来店数・天気・気温・スタッフ別接客数!$H15 -> 0 | N16: =来店数・天気・気温・スタッフ別接客数!$H16 -> 0 | O16: =来店数・天気・気温・スタッフ別接客数!$H17 -> 0 | P16: =来店数・天気・気温・スタッフ別接客数!$H18 -> 0 | Q16: =来店数・天気・気温・スタッフ別接客数!$H19 -> 0 | R16: =来店数・天気・気温・スタッフ別接客数!$H20 -> 0 | S16: =来店数・天気・気温・スタッフ別接客数!$H21 -> 0 | T16: =来店数・天気・気温・スタッフ別接客数!$H22 -> 0 | U16: =来店数・天気・気温・スタッフ別接客数!$H23 -> 0 | V16: =来店数・天気・気温・スタッフ別接客数!$H24 -> 0 | W16: =来店数・天気・気温・スタッフ別接客数!$H25 -> 0 | X16: =来店数・天気・気温・スタッフ別接客数!$H26 -> 0 | Y16: =来店数・天気・気温・スタッフ別接客数!$H27 -> 0 | Z16: =来店数・天気・気温・スタッフ別接客数!$H28 -> 0 | AA16: =来店数・天気・気温・スタッフ別接客数!$H29 -> 0 | AB16: =来店数・天気・気温・スタッフ別接客数!$H30 -> 0 | AC16: =来店数・天気・気温・スタッフ別接客数!$H31 -> 0 | AD16: =来店数・天気・気温・スタッフ別接客数!$H32 -> 0 | AE16: =来店数・天気・気温・スタッフ別接客数!$H33 -> 0 | AF16: =来店数・天気・気温・スタッフ別接客数!$H34 -> 0 | AG16: =SUM(B16:AF16) -> 0 | AH16: 達成率
A17: 成約数 | B17: =来店数・天気・気温・スタッフ別接客数!$C4 -> 0 | C17: =来店数・天気・気温・スタッフ別接客数!$C5 -> 0 | D17: =来店数・天気・気温・スタッフ別接客数!$C6 -> 0 | E17: =来店数・天気・気温・スタッフ別接客数!$C7 -> 0 | F17: =来店数・天気・気温・スタッフ別接客数!$C8 -> 0 | G17: =来店数・天気・気温・スタッフ別接客数!$C9 -> 0 | H17: =来店数・天気・気温・スタッフ別接客数!$C10 -> 0 | I17: =来店数・天気・気温・スタッフ別接客数!$C11 -> 0 | J17: =来店数・天気・気温・スタッフ別接客数!$C12 -> 0 | K17: =来店数・天気・気温・スタッフ別接客数!$C13 -> 0 | L17: =来店数・天気・気温・スタッフ別接客数!$C14 -> 0 | M17: =来店数・天気・気温・スタッフ別接客数!$C15 -> 0 | N17: =来店数・天気・気温・スタッフ別接客数!$C16 -> 0 | O17: =来店数・天気・気温・スタッフ別接客数!$C17 -> 0 | P17: =来店数・天気・気温・スタッフ別接客数!$C18 -> 0 | Q17: =来店数・天気・気温・スタッフ別接客数!$C19 -> 0 | R17: =来店数・天気・気温・スタッフ別接客数!$C20 -> 0 | S17: =来店数・天気・気温・スタッフ別接客数!$C21 -> 0 | T17: =来店数・天気・気温・スタッフ別接客数!$C22 -> 0 | U17: =来店数・天気・気温・スタッフ別接客数!$C23 -> 0 | V17: =来店数・天気・気温・スタッフ別接客数!$C24 -> 0 | W17: =来店数・天気・気温・スタッフ別接客数!$C25 -> 0 | X17: =来店数・天気・気温・スタッフ別接客数!$C26 -> 0 | Y17: =来店数・天気・気温・スタッフ別接客数!$C27 -> 0 | Z17: =来店数・天気・気温・スタッフ別接客数!$C28 -> 0 | AA17: =来店数・天気・気温・スタッフ別接客数!$C29 -> 0 | AB17: =来店数・天気・気温・スタッフ別接客数!$C30 -> 0 | AC17: =来店数・天気・気温・スタッフ別接客数!$C31 -> 0 | AD17: =来店数・天気・気温・スタッフ別接客数!$C32 -> 0 | AE17: =来店数・天気・気温・スタッフ別接客数!$C33 -> 0 | AF17: =来店数・天気・気温・スタッフ別接客数!$C34 -> 0 | AG17: =SUM(B17:AF17) -> 0 | AH17: =AG13/AH13 -> 0
A18: 成約率 | B18: =IF(ISERROR(B17/B16),0,B17/B16) -> 0 | C18: =IF(ISERROR(C17/C16),0,C17/C16) -> 0 | D18: =IF(ISERROR(D17/D16),0,D17/D16) -> 0 | E18: =IF(ISERROR(E17/E16),0,E17/E16) -> 0 | F18: =IF(ISERROR(F17/F16),0,F17/F16) -> 0 | G18: =IF(ISERROR(G17/G16),0,G17/G16) -> 0 | H18: =IF(ISERROR(H17/H16),0,H17/H16) -> 0 | I18: =IF(ISERROR(I17/I16),0,I17/I16) -> 0 | ... AG18: =IF(ISERROR(AG17/AG16),0,AG17/AG16) -> 0
A19: 媒体 | B19: 来客数 | AG19: 合計
A20: =ドロップダウンリスト!H3 -> 折込チラシ | B20: =COUNTIFS(日計表!$B$5:$B$2004,集計シート!B$3,日計表!$O$5:$O$2004,集計シート!$A20) -> 0 | C20: =COUNTIFS(日計表!$B$5:$B$2004,集計シート!C$3,日計表!$O$5:$O$2004,集計シート!$A20) -> 0 | D20: =COUNTIFS(日計表!$B$5:$B$2004,集計シート!D$3,日計表!$O$5:$O$2004,集計シート!$A20) -> 0 | E20: =COUNTIFS(日計表!$B$5:$B$2004,集計シート!E$3,日計表!$O$5:$O$2004,集計シート!$A20) -> 0 | F20: =COUNTIFS(日計表!$B$5:$B$2004,集計シート!F$3,日計表!$O$5:$O$2004,集計シート!$A20) -> 0 | G20: =COUNTIFS(日計表!$B$5:$B$2004,集計シート!G$3,日計表!$O$5:$O$2004,集計シート!$A20) -> 0 | H20: =COUNTIFS(日計表!$B$5:$B$2004,集計シート!H$3,日計表!$O$5:$O$2004,集計シート!$A20) -> 0 | I20: =COUNTIFS(日計表!$B$5:$B$2004,集計シート!I$3,日計表!$O$5:$O$2004,集計シート!$A20) -> 0 | ... AF20: =COUNTIFS(日計表!$B$5:$B$2004,集計シート!AF$3,日計表!$O$5:$O$2004,集計シート!$A20) -> 0 | AG20: =SUM(B20:AF20) -> 0
A21: =ドロップダウンリスト!H4 -> ポスティング | B21: =COUNTIFS(日計表!$B$5:$B$2004,集計シート!B$3,日計表!$O$5:$O$2004,集計シート!$A21) -> 0 | C21: =COUNTIFS(日計表!$B$5:$B$2004,集計シート!C$3,日計表!$O$5:$O$2004,集計シート!$A21) -> 0 | D21: =COUNTIFS(日計表!$B$5:$B$2004,集計シート!D$3,日計表!$O$5:$O$2004,集計シート!$A21) -> 0 | E21: =COUNTIFS(日計表!$B$5:$B$2004,集計シート!E$3,日計表!$O$5:$O$2004,集計シート!$A21) -> 0 | F21: =COUNTIFS(日計表!$B$5:$B$2004,集計シート!F$3,日計表!$O$5:$O$2004,集計シート!$A21) -> 0 | G21: =COUNTIFS(日計表!$B$5:$B$2004,集計シート!G$3,日計表!$O$5:$O$2004,集計シート!$A21) -> 0 | H21: =COUNTIFS(日計表!$B$5:$B$2004,集計シート!H$3,日計表!$O$5:$O$2004,集計シート!$A21) -> 0 | I21: =COUNTIFS(日計表!$B$5:$B$2004,集計シート!I$3,日計表!$O$5:$O$2004,集計シート!$A21) -> 0 | ... AF21: =COUNTIFS(日計表!$B$5:$B$2004,集計シート!AF$3,日計表!$O$5:$O$2004,集計シート!$A21) -> 0 | AG21: =SUM(B21:AF21) -> 0
A22: =ドロップダウンリスト!H5 -> 新聞広告 | B22: =COUNTIFS(日計表!$B$5:$B$2004,集計シート!B$3,日計表!$O$5:$O$2004,集計シート!$A22) -> 0 | C22: =COUNTIFS(日計表!$B$5:$B$2004,集計シート!C$3,日計表!$O$5:$O$2004,集計シート!$A22) -> 0 | D22: =COUNTIFS(日計表!$B$5:$B$2004,集計シート!D$3,日計表!$O$5:$O$2004,集計シート!$A22) -> 0 | E22: =COUNTIFS(日計表!$B$5:$B$2004,集計シート!E$3,日計表!$O$5:$O$2004,集計シート!$A22) -> 0 | F22: =COUNTIFS(日計表!$B$5:$B$2004,集計シート!F$3,日計表!$O$5:$O$2004,集計シート!$A22) -> 0 | G22: =COUNTIFS(日計表!$B$5:$B$2004,集計シート!G$3,日計表!$O$5:$O$2004,集計シート!$A22) -> 0 | H22: =COUNTIFS(日計表!$B$5:$B$2004,集計シート!H$3,日計表!$O$5:$O$2004,集計シート!$A22) -> 0 | I22: =COUNTIFS(日計表!$B$5:$B$2004,集計シート!I$3,日計表!$O$5:$O$2004,集計シート!$A22) -> 0 | ... AF22: =COUNTIFS(日計表!$B$5:$B$2004,集計シート!AF$3,日計表!$O$5:$O$2004,集計シート!$A22) -> 0 | AG22: =SUM(B22:AF22) -> 0
A23: =ドロップダウンリスト!H6 -> HP(PC) | B23: =COUNTIFS(日計表!$B$5:$B$2004,集計シート!B$3,日計表!$O$5:$O$2004,集計シート!$A23) -> 0 | C23: =COUNTIFS(日計表!$B$5:$B$2004,集計シート!C$3,日計表!$O$5:$O$2004,集計シート!$A23) -> 0 | D23: =COUNTIFS(日計表!$B$5:$B$2004,集計シート!D$3,日計表!$O$5:$O$2004,集計シート!$A23) -> 0 | E23: =COUNTIFS(日計表!$B$5:$B$2004,集計シート!E$3,日計表!$O$5:$O$2004,集計シート!$A23) -> 0 | F23: =COUNTIFS(日計表!$B$5:$B$2004,集計シート!F$3,日計表!$O$5:$O$2004,集計シート!$A23) -> 0 | G23: =COUNTIFS(日計表!$B$5:$B$2004,集計シート!G$3,日計表!$O$5:$O$2004,集計シート!$A23) -> 0 | H23: =COUNTIFS(日計表!$B$5:$B$2004,集計シート!H$3,日計表!$O$5:$O$2004,集計シート!$A23) -> 0 | I23: =COUNTIFS(日計表!$B$5:$B$2004,集計シート!I$3,日計表!$O$5:$O$2004,集計シート!$A23) -> 0 | ... AF23: =COUNTIFS(日計表!$B$5:$B$2004,集計シート!AF$3,日計表!$O$5:$O$2004,集計シート!$A23) -> 0 | AG23: =SUM(B23:AF23) -> 0
A24: =ドロップダウンリスト!H7 -> HP(携帯) | B24: =COUNTIFS(日計表!$B$5:$B$2004,集計シート!B$3,日計表!$O$5:$O$2004,集計シート!$A24) -> 0 | C24: =COUNTIFS(日計表!$B$5:$B$2004,集計シート!C$3,日計表!$O$5:$O$2004,集計シート!$A24) -> 0 | D24: =COUNTIFS(日計表!$B$5:$B$2004,集計シート!D$3,日計表!$O$5:$O$2004,集計シート!$A24) -> 0 | E24: =COUNTIFS(日計表!$B$5:$B$2004,集計シート!E$3,日計表!$O$5:$O$2004,集計シート!$A24) -> 0 | F24: =COUNTIFS(日計表!$B$5:$B$2004,集計シート!F$3,日計表!$O$5:$O$2004,集計シート!$A24) -> 0 | G24: =COUNTIFS(日計表!$B$5:$B$2004,集計シート!G$3,日計表!$O$5:$O$2004,集計シート!$A24) -> 0 | H24: =COUNTIFS(日計表!$B$5:$B$2004,集計シート!H$3,日計表!$O$5:$O$2004,集計シート!$A24) -> 0 | I24: =COUNTIFS(日計表!$B$5:$B$2004,集計シート!I$3,日計表!$O$5:$O$2004,集計シート!$A24) -> 0 | ... AF24: =COUNTIFS(日計表!$B$5:$B$2004,集計シート!AF$3,日計表!$O$5:$O$2004,集計シート!$A24) -> 0 | AG24: =SUM(B24:AF24) -> 0
A25: =ドロップダウンリスト!H8 -> リピーター | B25: =COUNTIFS(日計表!$B$5:$B$2004,集計シート!B$3,日計表!$O$5:$O$2004,集計シート!$A25) -> 0 | C25: =COUNTIFS(日計表!$B$5:$B$2004,集計シート!C$3,日計表!$O$5:$O$2004,集計シート!$A25) -> 0 | D25: =COUNTIFS(日計表!$B$5:$B$2004,集計シート!D$3,日計表!$O$5:$O$2004,集計シート!$A25) -> 0 | E25: =COUNTIFS(日計表!$B$5:$B$2004,集計シート!E$3,日計表!$O$5:$O$2004,集計シート!$A25) -> 0 | F25: =COUNTIFS(日計表!$B$5:$B$2004,集計シート!F$3,日計表!$O$5:$O$2004,集計シート!$A25) -> 0 | G25: =COUNTIFS(日計表!$B$5:$B$2004,集計シート!G$3,日計表!$O$5:$O$2004,集計シート!$A25) -> 0 | H25: =COUNTIFS(日計表!$B$5:$B$2004,集計シート!H$3,日計表!$O$5:$O$2004,集計シート!$A25) -> 0 | I25: =COUNTIFS(日計表!$B$5:$B$2004,集計シート!I$3,日計表!$O$5:$O$2004,集計シート!$A25) -> 0 | ... AF25: =COUNTIFS(日計表!$B$5:$B$2004,集計シート!AF$3,日計表!$O$5:$O$2004,集計シート!$A25) -> 0 | AG25: =SUM(B25:AF25) -> 0
A26: =ドロップダウンリスト!H9 -> 看板(店頭) | B26: =COUNTIFS(日計表!$B$5:$B$2004,集計シート!B$3,日計表!$O$5:$O$2004,集計シート!$A26) -> 0 | C26: =COUNTIFS(日計表!$B$5:$B$2004,集計シート!C$3,日計表!$O$5:$O$2004,集計シート!$A26) -> 0 | D26: =COUNTIFS(日計表!$B$5:$B$2004,集計シート!D$3,日計表!$O$5:$O$2004,集計シート!$A26) -> 0 | E26: =COUNTIFS(日計表!$B$5:$B$2004,集計シート!E$3,日計表!$O$5:$O$2004,集計シート!$A26) -> 0 | F26: =COUNTIFS(日計表!$B$5:$B$2004,集計シート!F$3,日計表!$O$5:$O$2004,集計シート!$A26) -> 0 | G26: =COUNTIFS(日計表!$B$5:$B$2004,集計シート!G$3,日計表!$O$5:$O$2004,集計シート!$A26) -> 0 | H26: =COUNTIFS(日計表!$B$5:$B$2004,集計シート!H$3,日計表!$O$5:$O$2004,集計シート!$A26) -> 0 | I26: =COUNTIFS(日計表!$B$5:$B$2004,集計シート!I$3,日計表!$O$5:$O$2004,集計シート!$A26) -> 0 | ... AF26: =COUNTIFS(日計表!$B$5:$B$2004,集計シート!AF$3,日計表!$O$5:$O$2004,集計シート!$A26) -> 0 | AG26: =SUM(B26:AF26) -> 0
A27: =ドロップダウンリスト!H10 -> 看板(駅前等) | B27: =COUNTIFS(日計表!$B$5:$B$2004,集計シート!B$3,日計表!$O$5:$O$2004,集計シート!$A27) -> 0 | C27: =COUNTIFS(日計表!$B$5:$B$2004,集計シート!C$3,日計表!$O$5:$O$2004,集計シート!$A27) -> 0 | D27: =COUNTIFS(日計表!$B$5:$B$2004,集計シート!D$3,日計表!$O$5:$O$2004,集計シート!$A27) -> 0 | E27: =COUNTIFS(日計表!$B$5:$B$2004,集計シート!E$3,日計表!$O$5:$O$2004,集計シート!$A27) -> 0 | F27: =COUNTIFS(日計表!$B$5:$B$2004,集計シート!F$3,日計表!$O$5:$O$2004,集計シート!$A27) -> 0 | G27: =COUNTIFS(日計表!$B$5:$B$2004,集計シート!G$3,日計表!$O$5:$O$2004,集計シート!$A27) -> 0 | H27: =COUNTIFS(日計表!$B$5:$B$2004,集計シート!H$3,日計表!$O$5:$O$2004,集計シート!$A27) -> 0 | I27: =COUNTIFS(日計表!$B$5:$B$2004,集計シート!I$3,日計表!$O$5:$O$2004,集計シート!$A27) -> 0 | ... AF27: =COUNTIFS(日計表!$B$5:$B$2004,集計シート!AF$3,日計表!$O$5:$O$2004,集計シート!$A27) -> 0 | AG27: =SUM(B27:AF27) -> 0
A28: =ドロップダウンリスト!H11 -> ティッシュ | B28: =COUNTIFS(日計表!$B$5:$B$2004,集計シート!B$3,日計表!$O$5:$O$2004,集計シート!$A28) -> 0 | C28: =COUNTIFS(日計表!$B$5:$B$2004,集計シート!C$3,日計表!$O$5:$O$2004,集計シート!$A28) -> 0 | D28: =COUNTIFS(日計表!$B$5:$B$2004,集計シート!D$3,日計表!$O$5:$O$2004,集計シート!$A28) -> 0 | E28: =COUNTIFS(日計表!$B$5:$B$2004,集計シート!E$3,日計表!$O$5:$O$2004,集計シート!$A28) -> 0 | F28: =COUNTIFS(日計表!$B$5:$B$2004,集計シート!F$3,日計表!$O$5:$O$2004,集計シート!$A28) -> 0 | G28: =COUNTIFS(日計表!$B$5:$B$2004,集計シート!G$3,日計表!$O$5:$O$2004,集計シート!$A28) -> 0 | H28: =COUNTIFS(日計表!$B$5:$B$2004,集計シート!H$3,日計表!$O$5:$O$2004,集計シート!$A28) -> 0 | I28: =COUNTIFS(日計表!$B$5:$B$2004,集計シート!I$3,日計表!$O$5:$O$2004,集計シート!$A28) -> 0 | ... AF28: =COUNTIFS(日計表!$B$5:$B$2004,集計シート!AF$3,日計表!$O$5:$O$2004,集計シート!$A28) -> 0 | AG28: =SUM(B28:AF28) -> 0
A29: =ドロップダウンリスト!H12 -> 紹介 | B29: =COUNTIFS(日計表!$B$5:$B$2004,集計シート!B$3,日計表!$O$5:$O$2004,集計シート!$A29) -> 0 | C29: =COUNTIFS(日計表!$B$5:$B$2004,集計シート!C$3,日計表!$O$5:$O$2004,集計シート!$A29) -> 0 | D29: =COUNTIFS(日計表!$B$5:$B$2004,集計シート!D$3,日計表!$O$5:$O$2004,集計シート!$A29) -> 0 | E29: =COUNTIFS(日計表!$B$5:$B$2004,集計シート!E$3,日計表!$O$5:$O$2004,集計シート!$A29) -> 0 | F29: =COUNTIFS(日計表!$B$5:$B$2004,集計シート!F$3,日計表!$O$5:$O$2004,集計シート!$A29) -> 0 | G29: =COUNTIFS(日計表!$B$5:$B$2004,集計シート!G$3,日計表!$O$5:$O$2004,集計シート!$A29) -> 0 | H29: =COUNTIFS(日計表!$B$5:$B$2004,集計シート!H$3,日計表!$O$5:$O$2004,集計シート!$A29) -> 0 | I29: =COUNTIFS(日計表!$B$5:$B$2004,集計シート!I$3,日計表!$O$5:$O$2004,集計シート!$A29) -> 0 | ... AF29: =COUNTIFS(日計表!$B$5:$B$2004,集計シート!AF$3,日計表!$O$5:$O$2004,集計シート!$A29) -> 0 | AG29: =SUM(B29:AF29) -> 0
A30: =ドロップダウンリスト!H13 -> テレビ(CM) | B30: =COUNTIFS(日計表!$B$5:$B$2004,集計シート!B$3,日計表!$O$5:$O$2004,集計シート!$A30) -> 0 | C30: =COUNTIFS(日計表!$B$5:$B$2004,集計シート!C$3,日計表!$O$5:$O$2004,集計シート!$A30) -> 0 | D30: =COUNTIFS(日計表!$B$5:$B$2004,集計シート!D$3,日計表!$O$5:$O$2004,集計シート!$A30) -> 0 | E30: =COUNTIFS(日計表!$B$5:$B$2004,集計シート!E$3,日計表!$O$5:$O$2004,集計シート!$A30) -> 0 | F30: =COUNTIFS(日計表!$B$5:$B$2004,集計シート!F$3,日計表!$O$5:$O$2004,集計シート!$A30) -> 0 | G30: =COUNTIFS(日計表!$B$5:$B$2004,集計シート!G$3,日計表!$O$5:$O$2004,集計シート!$A30) -> 0 | H30: =COUNTIFS(日計表!$B$5:$B$2004,集計シート!H$3,日計表!$O$5:$O$2004,集計シート!$A30) -> 0 | I30: =COUNTIFS(日計表!$B$5:$B$2004,集計シート!I$3,日計表!$O$5:$O$2004,集計シート!$A30) -> 0 | ... AF30: =COUNTIFS(日計表!$B$5:$B$2004,集計シート!AF$3,日計表!$O$5:$O$2004,集計シート!$A30) -> 0 | AG30: =SUM(B30:AF30) -> 0
A31: =ドロップダウンリスト!H14 -> その他 | B31: =COUNTIFS(日計表!$B$5:$B$2004,集計シート!B$3,日計表!$O$5:$O$2004,集計シート!$A31) -> 0 | C31: =COUNTIFS(日計表!$B$5:$B$2004,集計シート!C$3,日計表!$O$5:$O$2004,集計シート!$A31) -> 0 | D31: =COUNTIFS(日計表!$B$5:$B$2004,集計シート!D$3,日計表!$O$5:$O$2004,集計シート!$A31) -> 0 | E31: =COUNTIFS(日計表!$B$5:$B$2004,集計シート!E$3,日計表!$O$5:$O$2004,集計シート!$A31) -> 0 | F31: =COUNTIFS(日計表!$B$5:$B$2004,集計シート!F$3,日計表!$O$5:$O$2004,集計シート!$A31) -> 0 | G31: =COUNTIFS(日計表!$B$5:$B$2004,集計シート!G$3,日計表!$O$5:$O$2004,集計シート!$A31) -> 0 | H31: =COUNTIFS(日計表!$B$5:$B$2004,集計シート!H$3,日計表!$O$5:$O$2004,集計シート!$A31) -> 0 | I31: =COUNTIFS(日計表!$B$5:$B$2004,集計シート!I$3,日計表!$O$5:$O$2004,集計シート!$A31) -> 0 | ... AF31: =COUNTIFS(日計表!$B$5:$B$2004,集計シート!AF$3,日計表!$O$5:$O$2004,集計シート!$A31) -> 0 | AG31: =SUM(B31:AF31) -> 0
... A37: =ドロップダウンリスト!H20 -> 0 | B37: =COUNTIFS(日計表!$B$5:$B$2004,集計シート!B$3,日計表!$O$5:$O$2004,集計シート!$A37) -> 0 | C37: =COUNTIFS(日計表!$B$5:$B$2004,集計シート!C$3,日計表!$O$5:$O$2004,集計シート!$A37) -> 0 | D37: =COUNTIFS(日計表!$B$5:$B$2004,集計シート!D$3,日計表!$O$5:$O$2004,集計シート!$A37) -> 0 | E37: =COUNTIFS(日計表!$B$5:$B$2004,集計シート!E$3,日計表!$O$5:$O$2004,集計シート!$A37) -> 0 | F37: =COUNTIFS(日計表!$B$5:$B$2004,集計シート!F$3,日計表!$O$5:$O$2004,集計シート!$A37) -> 0 | G37: =COUNTIFS(日計表!$B$5:$B$2004,集計シート!G$3,日計表!$O$5:$O$2004,集計シート!$A37) -> 0 | H37: =COUNTIFS(日計表!$B$5:$B$2004,集計シート!H$3,日計表!$O$5:$O$2004,集計シート!$A37) -> 0 | I37: =COUNTIFS(日計表!$B$5:$B$2004,集計シート!I$3,日計表!$O$5:$O$2004,集計シート!$A37) -> 0 | ... AF37: =COUNTIFS(日計表!$B$5:$B$2004,集計シート!AF$3,日計表!$O$5:$O$2004,集計シート!$A37) -> 0 | AG37: =SUM(B37:AF37) -> 0
A39: ジャンル別金額 上から[売上/買取/粗利] | B39: =B3 -> 46235 | C39: =C3 -> 46236 | D39: =D3 -> 46237 | E39: =E3 -> 46238 | F39: =F3 -> 46239 | G39: =G3 -> 46240 | H39: =H3 -> 46241 | I39: =I3 -> 46242 | ... AF39: =AF3 -> 46265 | AG39: 合計 | AH39: 粗利率 | AI39: 構成比
A40: =ドロップダウンリスト!J3 -> 金券(非課税) | B40: =SUMIFS(日計表!$U$5:$U$2004,日計表!$B$5:$B$2004,集計シート!B$3,日計表!$Q$5:$Q$2004,集計シート!$A40) -> 0 | C40: =SUMIFS(日計表!$U$5:$U$2004,日計表!$B$5:$B$2004,集計シート!C$3,日計表!$Q$5:$Q$2004,集計シート!$A40) -> 0 | D40: =SUMIFS(日計表!$U$5:$U$2004,日計表!$B$5:$B$2004,集計シート!D$3,日計表!$Q$5:$Q$2004,集計シート!$A40) -> 0 | E40: =SUMIFS(日計表!$U$5:$U$2004,日計表!$B$5:$B$2004,集計シート!E$3,日計表!$Q$5:$Q$2004,集計シート!$A40) -> 0 | F40: =SUMIFS(日計表!$U$5:$U$2004,日計表!$B$5:$B$2004,集計シート!F$3,日計表!$Q$5:$Q$2004,集計シート!$A40) -> 0 | G40: =SUMIFS(日計表!$U$5:$U$2004,日計表!$B$5:$B$2004,集計シート!G$3,日計表!$Q$5:$Q$2004,集計シート!$A40) -> 0 | H40: =SUMIFS(日計表!$U$5:$U$2004,日計表!$B$5:$B$2004,集計シート!H$3,日計表!$Q$5:$Q$2004,集計シート!$A40) -> 0 | I40: =SUMIFS(日計表!$U$5:$U$2004,日計表!$B$5:$B$2004,集計シート!I$3,日計表!$Q$5:$Q$2004,集計シート!$A40) -> 0 | ... AF40: =SUMIFS(日計表!$U$5:$U$2004,日計表!$B$5:$B$2004,集計シート!AF$3,日計表!$Q$5:$Q$2004,集計シート!$A40) -> 0 | AG40: =SUM(B40:AF40) -> 0 | AH40: =IF(ISERROR(AG42/AG40),0,AG42/AG40) -> 0 | AI40: =AG42/AH$94 -> #DIV/0!
A41: =ドロップダウンリスト!J3 -> 金券(非課税) | B41: =SUMIFS(日計表!$T$5:$T$2004,日計表!$B$5:$B$2004,集計シート!B$3,日計表!$Q$5:$Q$2004,集計シート!$A41) -> 0 | C41: =SUMIFS(日計表!$T$5:$T$2004,日計表!$B$5:$B$2004,集計シート!C$3,日計表!$Q$5:$Q$2004,集計シート!$A41) -> 0 | D41: =SUMIFS(日計表!$T$5:$T$2004,日計表!$B$5:$B$2004,集計シート!D$3,日計表!$Q$5:$Q$2004,集計シート!$A41) -> 0 | E41: =SUMIFS(日計表!$T$5:$T$2004,日計表!$B$5:$B$2004,集計シート!E$3,日計表!$Q$5:$Q$2004,集計シート!$A41) -> 0 | F41: =SUMIFS(日計表!$T$5:$T$2004,日計表!$B$5:$B$2004,集計シート!F$3,日計表!$Q$5:$Q$2004,集計シート!$A41) -> 0 | G41: =SUMIFS(日計表!$T$5:$T$2004,日計表!$B$5:$B$2004,集計シート!G$3,日計表!$Q$5:$Q$2004,集計シート!$A41) -> 0 | H41: =SUMIFS(日計表!$T$5:$T$2004,日計表!$B$5:$B$2004,集計シート!H$3,日計表!$Q$5:$Q$2004,集計シート!$A41) -> 0 | I41: =SUMIFS(日計表!$T$5:$T$2004,日計表!$B$5:$B$2004,集計シート!I$3,日計表!$Q$5:$Q$2004,集計シート!$A41) -> 0 | ... AF41: =SUMIFS(日計表!$T$5:$T$2004,日計表!$B$5:$B$2004,集計シート!AF$3,日計表!$Q$5:$Q$2004,集計シート!$A41) -> 0 | AG41: =SUM(B41:AF41) -> 0
A42: =ドロップダウンリスト!J3 -> 金券(非課税) | B42: =B40-B41 -> 0 | C42: =C40-C41 -> 0 | D42: =D40-D41 -> 0 | E42: =E40-E41 -> 0 | F42: =F40-F41 -> 0 | G42: =G40-G41 -> 0 | H42: =H40-H41 -> 0 | I42: =I40-I41 -> 0 | ... AF42: =AF40-AF41 -> 0 | AG42: =SUM(B42:AF42) -> 0
A43: =ドロップダウンリスト!J4 -> 金券(課税) | B43: =SUMIFS(日計表!$U$5:$U$2004,日計表!$B$5:$B$2004,集計シート!B$3,日計表!$Q$5:$Q$2004,集計シート!$A43) -> 0 | C43: =SUMIFS(日計表!$U$5:$U$2004,日計表!$B$5:$B$2004,集計シート!C$3,日計表!$Q$5:$Q$2004,集計シート!$A43) -> 0 | D43: =SUMIFS(日計表!$U$5:$U$2004,日計表!$B$5:$B$2004,集計シート!D$3,日計表!$Q$5:$Q$2004,集計シート!$A43) -> 0 | E43: =SUMIFS(日計表!$U$5:$U$2004,日計表!$B$5:$B$2004,集計シート!E$3,日計表!$Q$5:$Q$2004,集計シート!$A43) -> 0 | F43: =SUMIFS(日計表!$U$5:$U$2004,日計表!$B$5:$B$2004,集計シート!F$3,日計表!$Q$5:$Q$2004,集計シート!$A43) -> 0 | G43: =SUMIFS(日計表!$U$5:$U$2004,日計表!$B$5:$B$2004,集計シート!G$3,日計表!$Q$5:$Q$2004,集計シート!$A43) -> 0 | H43: =SUMIFS(日計表!$U$5:$U$2004,日計表!$B$5:$B$2004,集計シート!H$3,日計表!$Q$5:$Q$2004,集計シート!$A43) -> 0 | I43: =SUMIFS(日計表!$U$5:$U$2004,日計表!$B$5:$B$2004,集計シート!I$3,日計表!$Q$5:$Q$2004,集計シート!$A43) -> 0 | ... AF43: =SUMIFS(日計表!$U$5:$U$2004,日計表!$B$5:$B$2004,集計シート!AF$3,日計表!$Q$5:$Q$2004,集計シート!$A43) -> 0 | AG43: =SUM(B43:AF43) -> 0 | AH43: =IF(ISERROR(AG45/AG43),0,AG45/AG43) -> 0 | AI43: =AG45/AH$94 -> #DIV/0!
A44: =ドロップダウンリスト!J4 -> 金券(課税) | B44: =SUMIFS(日計表!$T$5:$T$2004,日計表!$B$5:$B$2004,集計シート!B$3,日計表!$Q$5:$Q$2004,集計シート!$A44) -> 0 | C44: =SUMIFS(日計表!$T$5:$T$2004,日計表!$B$5:$B$2004,集計シート!C$3,日計表!$Q$5:$Q$2004,集計シート!$A44) -> 0 | D44: =SUMIFS(日計表!$T$5:$T$2004,日計表!$B$5:$B$2004,集計シート!D$3,日計表!$Q$5:$Q$2004,集計シート!$A44) -> 0 | E44: =SUMIFS(日計表!$T$5:$T$2004,日計表!$B$5:$B$2004,集計シート!E$3,日計表!$Q$5:$Q$2004,集計シート!$A44) -> 0 | F44: =SUMIFS(日計表!$T$5:$T$2004,日計表!$B$5:$B$2004,集計シート!F$3,日計表!$Q$5:$Q$2004,集計シート!$A44) -> 0 | G44: =SUMIFS(日計表!$T$5:$T$2004,日計表!$B$5:$B$2004,集計シート!G$3,日計表!$Q$5:$Q$2004,集計シート!$A44) -> 0 | H44: =SUMIFS(日計表!$T$5:$T$2004,日計表!$B$5:$B$2004,集計シート!H$3,日計表!$Q$5:$Q$2004,集計シート!$A44) -> 0 | I44: =SUMIFS(日計表!$T$5:$T$2004,日計表!$B$5:$B$2004,集計シート!I$3,日計表!$Q$5:$Q$2004,集計シート!$A44) -> 0 | ... AF44: =SUMIFS(日計表!$T$5:$T$2004,日計表!$B$5:$B$2004,集計シート!AF$3,日計表!$Q$5:$Q$2004,集計シート!$A44) -> 0 | AG44: =SUM(B44:AF44) -> 0
A45: =ドロップダウンリスト!J4 -> 金券(課税) | B45: =B43-B44 -> 0 | C45: =C43-C44 -> 0 | D45: =D43-D44 -> 0 | E45: =E43-E44 -> 0 | F45: =F43-F44 -> 0 | G45: =G43-G44 -> 0 | H45: =H43-H44 -> 0 | I45: =I43-I44 -> 0 | ... AF45: =AF43-AF44 -> 0 | AG45: =SUM(B45:AF45) -> 0
A46: =ドロップダウンリスト!J5 -> テレカ | B46: =SUMIFS(日計表!$U$5:$U$2004,日計表!$B$5:$B$2004,集計シート!B$3,日計表!$Q$5:$Q$2004,集計シート!$A46) -> 0 | C46: =SUMIFS(日計表!$U$5:$U$2004,日計表!$B$5:$B$2004,集計シート!C$3,日計表!$Q$5:$Q$2004,集計シート!$A46) -> 0 | D46: =SUMIFS(日計表!$U$5:$U$2004,日計表!$B$5:$B$2004,集計シート!D$3,日計表!$Q$5:$Q$2004,集計シート!$A46) -> 0 | E46: =SUMIFS(日計表!$U$5:$U$2004,日計表!$B$5:$B$2004,集計シート!E$3,日計表!$Q$5:$Q$2004,集計シート!$A46) -> 0 | F46: =SUMIFS(日計表!$U$5:$U$2004,日計表!$B$5:$B$2004,集計シート!F$3,日計表!$Q$5:$Q$2004,集計シート!$A46) -> 0 | G46: =SUMIFS(日計表!$U$5:$U$2004,日計表!$B$5:$B$2004,集計シート!G$3,日計表!$Q$5:$Q$2004,集計シート!$A46) -> 0 | H46: =SUMIFS(日計表!$U$5:$U$2004,日計表!$B$5:$B$2004,集計シート!H$3,日計表!$Q$5:$Q$2004,集計シート!$A46) -> 0 | I46: =SUMIFS(日計表!$U$5:$U$2004,日計表!$B$5:$B$2004,集計シート!I$3,日計表!$Q$5:$Q$2004,集計シート!$A46) -> 0 | ... AF46: =SUMIFS(日計表!$U$5:$U$2004,日計表!$B$5:$B$2004,集計シート!AF$3,日計表!$Q$5:$Q$2004,集計シート!$A46) -> 0 | AG46: =SUM(B46:AF46) -> 0 | AH46: =IF(ISERROR(AG48/AG46),0,AG48/AG46) -> 0 | AI46: =AG48/AH$94 -> #DIV/0!
...

Sheet 日計表
B1: 加盟店報告用日計表 | E1: 46235 | H1: 店名 | N1: すべてのシートにおいて、列の追加や削除、シート名変更はしないでください。計算式が崩れます。
C2: 削除しないでください！ 計算式入り | H2: ※提出時は削除(原本削除注意) 【削除箇所を選ぶ→右クリック→数値と値のクリアで削除してください】 | V2: 削除しないでください！ 計算式入り
B3: すべての行に 入力してください | D3: すべての行に 入力してください | E3: お客様情報は１行のみに入力してください※複数行に同じ内容入力不可です | Q3: すべて詳細に入力してください | Z3: お客様情報は１行のみに入力してください※複数行に同じ内容入力不可です
A4: 管理 番号 | B4: 日付 | C4: 曜日 (自動) | D4: 買取担当者 | E4: 時間帯 | F4: 店舗/出張 | G4: 結果 | H4: 買取先(お客様のお名前) | I4: 性別 | J4: 年齢(半角数字のみ) | K4: インボイス | L4: 登録番号 | M4: 電話番号 | N4: 住所(都道府県から) | O4: 媒体 | P4: 各社折込チラシ | Q4: ジャンル | R4: 品名 (詳細に) | S4: 個数 | T4: 買取価格 | U4: 売価(税込) ※予測→確定金額に変更 | V4: 粗利 (自動計算) | W4: 売却先 | X4: 売却日 | Y4: 入金日 | Z4: 口コミ | AA4: 架電 | AB4: DM | AC4: SV相談 (項目スクロール) | AD4: 備考
C5: =IF(B5="","",TEXT(B5,"aaa")) | V5: =U5-T5 -> 0
C6: =IF(B6="","",TEXT(B6,"aaa")) | V6: =U6-T6 -> 0
C7: =IF(B7="","",TEXT(B7,"aaa")) | V7: =U7-T7 -> 0
C8: =IF(B8="","",TEXT(B8,"aaa")) | V8: =U8-T8 -> 0
C9: =IF(B9="","",TEXT(B9,"aaa")) | V9: =U9-T9 -> 0
C10: =IF(B10="","",TEXT(B10,"aaa")) | V10: =U10-T10 -> 0
C11: =IF(B11="","",TEXT(B11,"aaa")) | V11: =U11-T11 -> 0
C12: =IF(B12="","",TEXT(B12,"aaa")) | V12: =U12-T12 -> 0
C13: =IF(B13="","",TEXT(B13,"aaa")) | V13: =U13-T13 -> 0
C14: =IF(B14="","",TEXT(B14,"aaa")) | V14: =U14-T14 -> 0
C15: =IF(B15="","",TEXT(B15,"aaa")) | V15: =U15-T15 -> 0
C16: =IF(B16="","",TEXT(B16,"aaa")) | V16: =U16-T16 -> 0
... C2004: =IF(B2004="","",TEXT(B2004,"aaa")) | V2004: =U2004-T2004 -> 0

Sheet 来店数・天気・気温・スタッフ別接客数
B1: 来店数・天気・気温
C2: 半角数字で入力してください | I2: リストから選んでください [追加はドロップダウンリストシート] | K2: 半角数字で入力してください [例:30.5] | M2: 接客数※スタッフ別 [半角数字で入力してください] ※スタッフ名はドロップダウンリストから自動反映されます
A3: 黄色部分に該当月を入力してください。 [例 : 9/1] | B3: 曜日 (自動) | C3: 成立数 | D3: 不成立数 | E3: ※一部買い逃し件数 | F3: 問合せ等 (来店され買取の質問等) | G3: 受電 | H3: 総来店数 ※自動計算 | I3: 天気(午前) | J3: 天気(午後) | K3: 気温(最高) | L3: 気温(最低) | M3: 日付/スタッフ名 | N3: =集計シート!$A97 -> 0 | O3: =集計シート!$A98 -> 0 | P3: =集計シート!$A99 -> 0 | Q3: =集計シート!$A100 -> 0 | R3: =集計シート!$A101 -> 0 | S3: =集計シート!$A102 -> 0 | T3: =集計シート!$A103 -> 0 | U3: =集計シート!$A104 -> 0 | V3: =集計シート!$A105 -> 0 | W3: =集計シート!$A106 -> 0 | X3: =集計シート!$A107 -> 0 | Y3: =集計シート!$A108 -> 0 | Z3: =集計シート!$A109 -> 0 | AA3: =集計シート!$A110 -> 0 | AB3: =集計シート!$A111 -> 0
A4: 46235 | B4: =TEXT(A4,"(aaa)") -> (土) | H4: =SUM(C4+D4+F4) -> 0 | M4: =A4 -> 46235
A5: =IF($A4="","",IF(DAY($A4+1)=1,"",$A4+1)) -> 46236 | B5: =TEXT(A5,"(aaa)") -> (日) | H5: =SUM(C5+D5+F5) -> 0 | M5: =A5 -> 46236
A6: =IF($A5="","",IF(DAY($A5+1)=1,"",$A5+1)) -> 46237 | B6: =TEXT(A6,"(aaa)") -> (月) | H6: =SUM(C6+D6+F6) -> 0 | M6: =A6 -> 46237
A7: =IF($A6="","",IF(DAY($A6+1)=1,"",$A6+1)) -> 46238 | B7: =TEXT(A7,"(aaa)") -> (火) | H7: =SUM(C7+D7+F7) -> 0 | M7: =A7 -> 46238
A8: =IF($A7="","",IF(DAY($A7+1)=1,"",$A7+1)) -> 46239 | B8: =TEXT(A8,"(aaa)") -> (水) | H8: =SUM(C8+D8+F8) -> 0 | M8: =A8 -> 46239
A9: =IF($A8="","",IF(DAY($A8+1)=1,"",$A8+1)) -> 46240 | B9: =TEXT(A9,"(aaa)") -> (木) | H9: =SUM(C9+D9+F9) -> 0 | M9: =A9 -> 46240
A10: =IF($A9="","",IF(DAY($A9+1)=1,"",$A9+1)) -> 46241 | B10: =TEXT(A10,"(aaa)") -> (金) | H10: =SUM(C10+D10+F10) -> 0 | M10: =A10 -> 46241
A11: =IF($A10="","",IF(DAY($A10+1)=1,"",$A10+1)) -> 46242 | B11: =TEXT(A11,"(aaa)") -> (土) | H11: =SUM(C11+D11+F11) -> 0 | M11: =A11 -> 46242
A12: =IF($A11="","",IF(DAY($A11+1)=1,"",$A11+1)) -> 46243 | B12: =TEXT(A12,"(aaa)") -> (日) | H12: =SUM(C12+D12+F12) -> 0 | M12: =A12 -> 46243
A13: =IF($A12="","",IF(DAY($A12+1)=1,"",$A12+1)) -> 46244 | B13: =TEXT(A13,"(aaa)") -> (月) | H13: =SUM(C13+D13+F13) -> 0 | M13: =A13 -> 46244
A14: =IF($A13="","",IF(DAY($A13+1)=1,"",$A13+1)) -> 46245 | B14: =TEXT(A14,"(aaa)") -> (火) | H14: =SUM(C14+D14+F14) -> 0 | M14: =A14 -> 46245
A15: =IF($A14="","",IF(DAY($A14+1)=1,"",$A14+1)) -> 46246 | B15: =TEXT(A15,"(aaa)") -> (水) | H15: =SUM(C15+D15+F15) -> 0 | M15: =A15 -> 46246
A16: =IF($A15="","",IF(DAY($A15+1)=1,"",$A15+1)) -> 46247 | B16: =TEXT(A16,"(aaa)") -> (木) | H16: =SUM(C16+D16+F16) -> 0 | M16: =A16 -> 46247
... A34: =IF($A33="","",IF(DAY($A33+1)=1,"",$A33+1)) -> 46265 | B34: =TEXT(A34,"(aaa)") -> (月) | H34: =SUM(C34+D34+F34) -> 0 | M34: =A34 -> 46265
A35: 合計 | C35: =SUM(C4:C34) -> 0 | D35: =SUM(D4:D34) -> 0 | E35: =SUM(E4:E34) -> 0 | F35: =SUM(F4:F34) -> 0 | G35: =SUM(G4:G34) -> 0 | H35: =SUM(H4:H34) -> 0 | M35: 合計 | N35: =SUM(N4:N34) -> 0 | O35: =SUM(O4:O34) -> 0 | P35: =SUM(P4:P34) -> 0 | Q35: =SUM(Q4:Q34) -> 0 | R35: =SUM(R4:R34) -> 0 | S35: =SUM(S4:S34) -> 0 | T35: =SUM(T4:T34) -> 0 | U35: =SUM(U4:U34) -> 0 | ... AB35: =SUM(AB4:AB34) -> 0

Sheet ドロップダウンリスト
B1: ドロップダウンリスト用一覧 | F1: ※黄色部分は自由に修正追加可能
A2: 買取担当者 (スタッフ名入力) | B2: 時間帯 | C2: 店舗/出張他 | D2: 結果 | E2: 性別 | F2: 年代 | G2: インボイス | H2: 媒体 | I2: 折込名 | J2: ジャンル | K2: 売却先 | L2: 口コミ | M2: 架電 | N2: DM | O2: SV相談 (5行目からSV名入力) | P2: 天気
B3: 10時台 | C3: 店舗 | D3: 成立 | E3: 女性 | F3: 10代 | G3: 一般 | H3: 折込チラシ | I3: 朝日 | J3: 金券(非課税) | K3: 本部 | L3: 〇 | M3: 可 | N3: 可 | O3: 有 | P3: 晴
B4: 11時台 | C4: 出張 | D4: 不成立 | E4: 男性 | F4: 20代 | G4: 法人(課税) | H4: ポスティング | I4: 読売 | J4: 金券(課税) | K4: その他 | L4: ✕ | M4: 不可 | N4: 不可 | O4: 無 | P4: 曇り
B5: 12時台 | C5: 宅配 | D5: 問合せ | F5: 30代 | G5: 法人(非課税) | H5: 新聞広告 | I5: 日経 | J5: テレカ | P5: 雨
B6: 13時台 | F6: 40代 | G6: 個人事業主(課税) | H6: HP(PC) | I6: 毎日 | J6: 現行銭 | P6: 小雨
B7: 14時台 | F7: 50代 | G7: 個人事業主(非課税) | H7: HP(携帯) | I7: 産経 | J7: ミント・プルーフセット | P7: 台風
B8: 15時台 | F8: 60代 | H8: リピーター | I8: 他 | J8: ブランドバッグ | P8: 雪
B9: 16時台 | F9: 70代 | H9: 看板(店頭) | J9: ブランド時計
B10: 17時台 | F10: 80代 | H10: 看板(駅前等) | J10: 貴金属製品
B11: 18時台 | F11: 90代以上 | H11: ティッシュ | J11: 刀剣
B12: 19時以降 | H12: 紹介 | J12: 小判
H13: テレビ(CM) | J13: シート切手
H14: その他 | J14: バラ切手
J15: 印紙
J16: その他アイテム

Sheet 住所抽出
A1: 住所抽出シート | B1: どこからご来店いただいているかのマップ作成に役立ちます。フィルター「0」チェックを外して一覧作成可能
A2: =日計表!N5 -> 0
A3: =日計表!N6 -> 0
A4: =日計表!N7 -> 0
A5: =日計表!N8 -> 0
A6: =日計表!N9 -> 0
A7: =日計表!N10 -> 0
A8: =日計表!N11 -> 0
A9: =日計表!N12 -> 0
A10: =日計表!N13 -> 0
A11: =日計表!N14 -> 0
A12: =日計表!N15 -> 0
A13: =日計表!N16 -> 0
... A2001: =日計表!N2004 -> 0

Sheet 通常入力例
B1: 加盟店報告用日計表 | E1: 45170 | H1: 店名 | I1: おたからや〇〇店 | N1: すべてのシートにおいて、列の追加や削除、シート名変更はしないでください。計算式が崩れます。
C2: 削除しないでください！ 計算式入り | H2: ※提出時は削除(原本削除注意) 【削除箇所を選ぶ→右クリック→数値と値のクリアで削除してください】 | V2: 削除しないでください！ 計算式入り
B3: すべての行に 入力してください | D3: すべての行に 入力してください | E3: お客様情報は１行のみに入力してください※複数行に同じ内容入力不可です | Q3: すべて詳細に入力してください | Z3: お客様情報は１行のみに入力してください※複数行に同じ内容入力不可です
A4: 管理 番号 | B4: 日付 | C4: 曜日 (自動) | D4: 買取担当者 | E4: 時間帯 | F4: 店舗/出張 | G4: 結果 | H4: 買取先(お客様のお名前) | I4: 性別 | J4: 年齢(半角数字のみ) | K4: インボイス | L4: 登録番号 | M4: 電話番号 | N4: 住所(都道府県から) | O4: 媒体 | P4: 各社折込チラシ | Q4: ジャンル | R4: 品名 (詳細に) | S4: 個数 | T4: 買取価格 | U4: 売価(税込) | V4: 粗利 (自動計算) | W4: 売却先 | X4: 売却日 | Y4: 入金日 | Z4: 口コミ | AA4: 架電 | AB4: DM | AC4: SV相談 (項目スクロール) | AD4: 備考
A5: 1 | B5: 45170 | C5: =IF(B5="","",TEXT(B5,"aaa")) -> 金 | D5: 山田太郎 | E5: 15時台 | F5: 店舗 | G5: 成立 | H5: 鈴木太郎 | I5: 男性 | J5: 50 | K5: 一般 | M5: 045-000-0000 | N5: 神奈川県横浜市西区1-1-1 | O5: 折込チラシ | P5: 朝日 | Q5: ブランドバッグ | R5: LV アルマ | S5: 1 | T5: 30000 | U5: 60000 | V5: =U5-T5 -> 30000 | W5: 本部 | X5: 45170 | Y5: 45172 | Z5: 〇 | AA5: 可 | AB5: 可 | AC5: 有 | AD5: 9/1DM発送
A6: 2 | B6: 45170 | C6: =IF(B6="","",TEXT(B6,"aaa")) -> 金 | D6: 山田太郎 | Q6: ブランド時計 | R6: RX デイトジャスト 16233 本体のみ | S6: 1 | T6: 490000 | U6: 700000 | V6: =U6-T6 -> 210000 | W6: 本部 | X6: 45170
A7: 3 | B7: 45170 | C7: =IF(B7="","",TEXT(B7,"aaa")) -> 金 | D7: 山田花子 | E7: 17時台 | F7: 出張 | G7: 成立 | H7: 鈴木花子 | I7: 女性 | J7: 33 | K7: 個人事業主(課税) | L7: T00000000 | M7: 045-111-1111 | N7: 神奈川県横浜市西区2-2-2 | O7: テレビ(CM) | Q7: 貴金属製品 | R7: Pt900 リング 5.4g/ エメラルド3.12ct | S7: 1 | T7: 20000 | U7: 80000 | V7: =U7-T7 -> 60000 | W7: 本部 | X7: 45171 | Y7: 45173 | Z7: ✕ | AA7: 不可 | AB7: 不可 | AC7: 無
A8: 4 | B8: 45170 | C8: =IF(B8="","",TEXT(B8,"aaa")) -> 金 | D8: 山田花子 | Q8: 貴金属製品 | R8: K18トップネックレス10.4g | S8: 1 | T8: 50000 | U8: 90000 | V8: =U8-T8 -> 40000 | W8: 本部 | X8: 45171 | Y8: 45173
A9: 5 | B9: 45170 | C9: =IF(B9="","",TEXT(B9,"aaa")) -> 金 | D9: 山田花子 | Q9: 貴金属製品 | R9: K18 リング 3.2g D0.3ct | S9: 1 | T9: 15000 | U9: 30000 | V9: =U9-T9 -> 15000 | W9: 本部 | X9: 45171 | Y9: 45173
A10: 6 | B10: 45170 | C10: =IF(B10="","",TEXT(B10,"aaa")) -> 金 | D10: 高橋太郎 | E10: 19時以降 | F10: 店舗 | G10: 不成立 | H10: 高橋花子 | I10: 女性 | J10: 45 | K10: 一般 | M10: 045-222-2222 | N10: 神奈川県横浜市西区3-3-3 | O10: リピーター | Q10: ブランド時計 | R10: RX 16710 | S10: 1 | V10: =U10-T10 -> 0 | AD10: 家族と相談してから持ってくる
A11: 7 | B11: 45171 | C11: =IF(B11="","",TEXT(B11,"aaa")) -> 土 | D11: 山田太郎 | E11: 13時台 | F11: 店舗 | G11: 成立 | H11: 鈴木一郎 | I11: 男性 | J11: 55 | K11: 一般 | M11: 045-333-3333 | N11: 神奈川県横浜市西区4-4-4 | O11: HP(PC) | Q11: バラ切手 | R11: バラ切手 詳細別紙 | S11: 100 | T11: 100000 | U11: 300000 | V11: =U11-T11 -> 200000 | W11: 本部 | X11: 45171 | Z11: 〇 | AA11: 可 | AB11: 不可 | AC11: 有 | AD11: 9/3架電(不在)
A12: 8 | B12: 45171 | C12: =IF(B12="","",TEXT(B12,"aaa")) -> 土 | D12: 山田太郎 | Q12: ブランド時計 | R12: バシュロンコンスタンタン オーヴァーシーズ | S12: 1 | T12: 500000 | U12: 590000 | V12: =U12-T12 -> 90000 | W12: 本部 | X12: 45171 | Y12: 45173
A13: 9 | B13: 45172 | C13: =IF(B13="","",TEXT(B13,"aaa")) -> 日 | D13: 山田花子 | E13: 12時台 | F13: 店舗 | G13: 成立 | H13: 山田恵子 | I13: 女性 | J13: 67 | K13: 一般 | M13: 045-444-4444 | N13: 神奈川県横浜市西区5-5-5 | O13: ティッシュ | Q13: テレカ | R13: 50度テレカ | S13: 10 | T13: 3000 | U13: 10000 | V13: =U13-T13 -> 7000 | W13: 本部 | Z13: 〇 | AA13: 不可 | AB13: 可 | AC13: 有
A14: 10 | B14: 45172 | C14: =IF(B14="","",TEXT(B14,"aaa")) -> 日 | D14: 山田花子 | Q14: 金券 | R14: 百貨店共通券1,000円 | S14: 10 | T14: 5000 | U14: 7000 | V14: =U14-T14 -> 2000 | W14: 本部
A15: 11 | B15: 45172 | C15: =IF(B15="","",TEXT(B15,"aaa")) -> 日 | D15: 山田花子 | Q15: ブランド時計 | R15: オメガ スピードマスター | S15: 1 | T15: 200000 | U15: 500000 | V15: =U15-T15 -> 300000 | W15: 本部
A16: 12 | B16: 45172 | C16: =IF(B16="","",TEXT(B16,"aaa")) -> 日 | D16: 山田花子 | Q16: ブランドバッグ | R16: シャネルマトラッセ チェーンショルダー | S16: 1 | T16: 50000 | U16: 100000 | V16: =U16-T16 -> 50000 | W16: 本部
H18: ↓↓提出時↓↓(提出用ファイル作成必須)
B21: 加盟店報告用日計表 | E21: 45170 | H21: 店名 | I21: おたからや〇〇店
C22: 削除しないでください！ 計算式入り | H22: ※提出時は削除(原本削除注意) 【削除箇所を選ぶ→右クリック→数値と値のクリアで削除してください】 | V22: 削除しないでください！ 計算式入り
B23: すべての行に 入力してください | D23: すべての行に 入力してください | E23: お客様情報は１行のみに入力してください※複数行に同じ内容入力不可です | Q23: すべて詳細に入力してください | Z23: お客様情報は１行のみに入力してください※複数行に同じ内容入力不可です
A24: 管理 番号 | B24: 日付 | C24: 曜日 (自動) | D24: 買取担当者 | E24: 時間帯 | F24: 店舗/出張 | G24: 結果 | H24: 買取先(お客様のお名前) | I24: 性別 | J24: 年齢(半角数字のみ) | K24: インボイス | L24: 登録番号 | M24: 電話番号 | N24: 住所(都道府県から) | O24: 媒体 | P24: 各社折込チラシ | Q24: ジャンル | R24: 品名 (詳細に) | S24: 個数 | T24: 買取価格 | U24: 売価(税込) | V24: 粗利 (自動計算) | W24: 売却先 | X24: 売却日 | Y24: 入金日 | Z24: 口コミ | AA24: 架電 | AB24: DM | AC24: SV相談 (項目スクロール) | AD24: 備考
A25: 1 | B25: 45170 | C25: =IF(B25="","",TEXT(B25,"aaa")) -> 金 | D25: 山田太郎 | E25: 15時台 | F25: 店舗 | G25: 成立 | I25: 男性 | J25: 50 | N25: 神奈川県横浜市西区1-1-1 | O25: 折込チラシ | P25: 朝日 | Q25: ブランドバッグ | R25: LV アルマ | S25: 1 | T25: 30000 | U25: 60000 | V25: =U25-T25 -> 30000 | W25: 本部 | X25: 45170 | Y25: 45172 | Z25: 〇 | AA25: 可 | AB25: 可 | AC25: 有 | AD25: 9/1DM発送
A26: 2 | B26: 45170 | C26: =IF(B26="","",TEXT(B26,"aaa")) -> 金 | D26: 山田太郎 | Q26: ブランド時計 | R26: RX デイトジャスト 16233 本体のみ | S26: 1 | T26: 490000 | U26: 700000 | V26: =U26-T26 -> 210000 | W26: 本部 | X26: 45170
A27: 3 | B27: 45170 | C27: =IF(B27="","",TEXT(B27,"aaa")) -> 金 | D27: 山田花子 | E27: 17時台 | F27: 出張 | G27: 成立 | I27: 女性 | J27: 33 | N27: 神奈川県横浜市西区2-2-2 | O27: テレビ(CM) | Q27: 貴金属製品 | R27: Pt900 リング 5.4g/ エメラルド3.12ct | S27: 1 | T27: 20000 | U27: 80000 | V27: =U27-T27 -> 60000 | W27: 本部 | X27: 45171 | Y27: 45173 | Z27: ✕ | AA27: 不可 | AB27: 不可 | AC27: 無
A28: 4 | B28: 45170 | C28: =IF(B28="","",TEXT(B28,"aaa")) -> 金 | D28: 山田花子 | Q28: 貴金属製品 | R28: K18 ネックレス 10.4g | S28: 1 | T28: 50000 | U28: 90000 | V28: =U28-T28 -> 40000 | W28: 本部 | X28: 45171 | Y28: 45173
A29: 5 | B29: 45170 | C29: =IF(B29="","",TEXT(B29,"aaa")) -> 金 | D29: 山田花子 | Q29: 貴金属製品 | R29: K18 リング 3.2g D0.3ct | S29: 1 | T29: 15000 | U29: 30000 | V29: =U29-T29 -> 15000 | W29: 本部 | X29: 45171 | Y29: 45173
A30: 6 | B30: 45170 | C30: =IF(B30="","",TEXT(B30,"aaa")) -> 金 | D30: 高橋太郎 | E30: 19時以降 | F30: 店舗 | G30: 不成立 | I30: 女性 | J30: 45 | N30: 神奈川県横浜市西区3-3-3 | O30: リピーター | Q30: ブランド時計 | R30: RX 16710 | S30: 1 | V30: =U30-T30 -> 0 | AD30: 家族と相談してから持ってくる
A31: 7 | B31: 45171 | C31: =IF(B31="","",TEXT(B31,"aaa")) -> 土 | D31: 山田太郎 | E31: 13時台 | F31: 店舗 | G31: 成立 | I31: 男性 | J31: 55 | N31: 神奈川県横浜市西区4-4-4 | O31: HP(PC) | Q31: バラ切手 | R31: バラ切手 詳細別紙 | S31: 100 | T31: 100000 | U31: 300000 | V31: =U31-T31 -> 200000 | W31: 本部 | X31: 45171 | Z31: 〇 | AA31: 可 | AB31: 不可 | AC31: 有 | AD31: 9/3架電(不在)
A32: 8 | B32: 45171 | C32: =IF(B32="","",TEXT(B32,"aaa")) -> 土 | D32: 山田太郎 | Q32: ブランド時計 | R32: バシュロンコンスタンタン オーヴァーシーズ | S32: 1 | T32: 500000 | U32: 590000 | V32: =U32-T32 -> 90000 | W32: 本部 | X32: 45171 | Y32: 45173
A33: 9 | B33: 45172 | C33: =IF(B33="","",TEXT(B33,"aaa")) -> 日 | D33: 山田花子 | E33: 12時台 | F33: 店舗 | G33: 成立 | I33: 女性 | J33: 67 | N33: 神奈川県横浜市西区5-5-5 | O33: ティッシュ | Q33: テレカ | R33: 50度テレカ | S33: 10 | T33: 3000 | U33: 10000 | V33: =U33-T33 -> 7000 | W33: 本部 | Z33: 〇 | AA33: 不可 | AB33: 可 | AC33: 有
A34: 10 | B34: 45172 | C34: =IF(B34="","",TEXT(B34,"aaa")) -> 日 | D34: 山田花子 | Q34: 金券 | R34: 百貨店共通券1,000円 | S34: 10 | T34: 5000 | U34: 7000 | V34: =U34-T34 -> 2000 | W34: 本部
A35: 11 | B35: 45172 | C35: =IF(B35="","",TEXT(B35,"aaa")) -> 日 | D35: 山田花子 | Q35: ブランド時計 | R35: オメガ スピードマスター | S35: 1 | T35: 200000 | U35: 500000 | V35: =U35-T35 -> 300000 | W35: 本部
A36: 12 | B36: 45172 | C36: =IF(B36="","",TEXT(B36,"aaa")) -> 日 | D36: 山田花子 | Q36: ブランドバッグ | R36: シャネルマトラッセ チェーンショルダー | S36: 1 | T36: 50000 | U36: 100000 | V36: =U36-T36 -> 50000 | W36: 本部

Sheet 枝番入力例
B1: [例] 管理番号「4」「K18トップネックレス10.4g」の品物を分割売却になったときは枝番にする。「4-1」「4-2」 | P1: すべてのシートにおいて、列の追加や削除、シート名変更はしないでください。計算式が崩れます。
B2: 【行追加方法、注意点】追加したい行の番号を選ぶ→右クリック→挿入。その際、計算式は引き継がれないため、未入力の行をコピーし、追加した行にペーストしてご利用ください
B3: すべての行に 入力してください | D3: すべての行に 入力してください | E3: お客様情報は１行のみに入力してください※複数行に同じ内容入力不可です | Q3: すべて詳細に入力してください | Z3: お客様情報は１行のみに入力してください※複数行に同じ内容入力不可です
A4: 管理 番号 | B4: 日付 | C4: 曜日 (自動) | D4: 買取担当者 | E4: 時間帯 | F4: 店舗/出張 | G4: 結果 | H4: 買取先(お客様のお名前) | I4: 性別 | J4: 年齢(半角数字のみ) | K4: インボイス | L4: 登録番号 | M4: 電話番号 | N4: 住所(都道府県から) | O4: 媒体 | P4: 各社折込チラシ | Q4: ジャンル | R4: 品名 (詳細に) | S4: 個数 | T4: 買取価格 | U4: 売価(税込) | V4: 粗利 (自動計算) | W4: 売却先 | X4: 売却日 | Y4: 入金日 | Z4: 口コミ | AA4: 架電 | AB4: DM | AC4: SV相談 (項目スクロール) | AD4: 備考
A5: 1 | B5: 45170 | C5: =IF(B5="","",TEXT(B5,"aaa")) -> 金 | D5: 山田太郎 | E5: 15時台 | F5: 店舗 | G5: 成立 | H5: 鈴木太郎 | I5: 男性 | J5: 50 | K5: 一般 | M5: 045-000-0000 | N5: 神奈川県横浜市西区1-1-1 | O5: 折込チラシ | P5: 朝日 | Q5: ブランドバッグ | R5: LV アルマ | S5: 1 | T5: 30000 | U5: 60000 | V5: =U5-T5 -> 30000 | W5: 本部 | X5: 45170 | Y5: 45172 | Z5: 〇 | AA5: 可 | AB5: 可 | AC5: 有 | AD5: 9/1DM発送
A6: 2 | B6: 45170 | C6: =IF(B6="","",TEXT(B6,"aaa")) -> 金 | D6: 山田太朗 | Q6: ブランド時計 | R6: RX デイトジャスト 16233 本体のみ | S6: 1 | T6: 490000 | U6: 700000 | V6: =U6-T6 -> 210000 | W6: 本部 | X6: 45170
A7: 3 | B7: 45170 | C7: =IF(B7="","",TEXT(B7,"aaa")) -> 金 | D7: 山田花子 | E7: 17時台 | F7: 出張 | G7: 成立 | H7: 鈴木花子 | I7: 女性 | J7: 33 | K7: 個人事業主(課税) | L7: T00000000 | M7: 045-111-1111 | N7: 神奈川県横浜市西区2-2-2 | O7: テレビ(CM) | Q7: 貴金属製品 | R7: Pt900 リング 5.4g/ エメラルド3.12ct | S7: 1 | T7: 20000 | U7: 80000 | V7: =U7-T7 -> 60000 | W7: 本部 | X7: 45171 | Y7: 45173 | Z7: ✕ | AA7: 不可 | AB7: 不可 | AC7: 無
A8: 4-1 | B8: 45170 | C8: =IF(B8="","",TEXT(B8,"aaa")) -> 金 | D8: 山田花子 | R8: コイントップ3.1g | S8: 1 | T8: 12500 | U8: 22500 | V8: =U8-T8 -> 10000 | W8: 本部 | X8: 45171 | Y8: 45173
A9: 4-2 | B9: 45170 | C9: =IF(B9="","",TEXT(B9,"aaa")) -> 金 | D9: 山田花子 | R9: ネックレス7.3g | S9: 1 | T9: 37500 | U9: 67500 | V9: =U9-T9 -> 30000 | W9: その他 | X9: 45171 | Y9: 45173
A10: 5 | B10: 45170 | C10: =IF(B10="","",TEXT(B10,"aaa")) -> 金 | D10: 山田花子 | Q10: 貴金属製品 | R10: K18 リング 3.2g D0.3ct | S10: 1 | T10: 15000 | U10: 30000 | V10: =U10-T10 -> 15000 | W10: 本部 | X10: 45171 | Y10: 45173
A11: 6 | B11: 45170 | C11: =IF(B11="","",TEXT(B11,"aaa")) -> 金 | D11: 高橋太郎 | E11: 19時以降 | F11: 店舗 | G11: 不成立 | H11: 高橋花子 | I11: 女性 | J11: 45 | K11: 一般 | M11: 045-222-2222 | N11: 神奈川県横浜市西区3-3-3 | O11: リピーター | Q11: ブランド時計 | R11: RX 16710 | S11: 1 | V11: =U11-T11 -> 0 | AD11: 家族と相談してから持ってくる
A12: 7 | B12: 45171 | C12: =IF(B12="","",TEXT(B12,"aaa")) -> 土 | D12: 山田太郎 | E12: 13時台 | F12: 店舗 | G12: 成立 | H12: 鈴木一郎 | I12: 男性 | J12: 55 | K12: 一般 | M12: 045-333-3333 | N12: 神奈川県横浜市西区4-4-4 | O12: HP(PC) | Q12: バラ切手 | R12: バラ切手 詳細別紙 | S12: 100 | T12: 100000 | U12: 300000 | V12: =U12-T12 -> 200000 | W12: 本部 | X12: 45171 | Z12: 〇 | AA12: 可 | AB12: 不可 | AC12: 有 | AD12: 9/3架電(不在)
A13: 8 | B13: 45171 | C13: =IF(B13="","",TEXT(B13,"aaa")) -> 土 | D13: 山田太郎 | Q13: ブランド時計 | R13: バシュロンコンスタンタン オーヴァーシーズ | S13: 1 | T13: 500000 | U13: 590000 | V13: =U13-T13 -> 90000 | W13: 本部 | X13: 45171 | Y13: 45173
A14: 9 | B14: 45172 | C14: =IF(B14="","",TEXT(B14,"aaa")) -> 日 | D14: 山田花子 | E14: 12時台 | F14: 店舗 | G14: 成立 | H14: 山田恵子 | I14: 女性 | J14: 67 | K14: 一般 | M14: 045-444-4444 | N14: 神奈川県横浜市西区5-5-5 | O14: ティッシュ | Q14: テレカ | R14: 50度テレカ | S14: 10 | T14: 3000 | U14: 10000 | V14: =U14-T14 -> 7000 | W14: 本部 | Z14: 〇 | AA14: 不可 | AB14: 可 | AC14: 有
A15: 10 | B15: 45172 | C15: =IF(B15="","",TEXT(B15,"aaa")) -> 日 | D15: 山田花子 | Q15: 金券 | R15: 百貨店共通券1,000円 | S15: 10 | T15: 5000 | U15: 7000 | V15: =U15-T15 -> 2000 | W15: 本部
A16: 11 | B16: 45172 | C16: =IF(B16="","",TEXT(B16,"aaa")) -> 日 | D16: 山田花子 | Q16: ブランド時計 | R16: オメガ スピードマスター | S16: 1 | T16: 200000 | U16: 500000 | V16: =U16-T16 -> 300000 | W16: 本部
A17: 12 | B17: 45172 | C17: =IF(B17="","",TEXT(B17,"aaa")) -> 日 | D17: 山田花子 | Q17: ブランドバッグ | R17: シャネルマトラッセ チェーンショルダー | S17: 1 | T17: 50000 | U17: 100000 | V17: =U17-T17 -> 50000 | W17: 本部
H19: ↓↓提出時↓↓(提出用ファイル作成必須)
B22: 加盟店報告用日計表 | E22: 45170 | H22: 店名 | I22: おたからや〇〇店
C23: 削除しないでください！ 計算式入り | H23: ※提出時は削除(原本削除注意) 【削除箇所を選ぶ→右クリック→数値と値のクリアで削除してください】 | V23: 削除しないでください！ 計算式入り
B24: すべての行に 入力してください | D24: すべての行に 入力してください | E24: お客様情報は１行のみに入力してください※複数行に同じ内容入力不可です | Q24: すべて詳細に入力してください | Z24: お客様情報は１行のみに入力してください※複数行に同じ内容入力不可です
A25: 1 | B25: 45170 | C25: =IF(B25="","",TEXT(B25,"aaa")) -> 金 | D25: 山田太郎 | E25: 15時台 | F25: 店舗 | G25: 成立 | I25: 男性 | J25: 50 | N25: 神奈川県横浜市西区1-1-1 | O25: 折込チラシ | P25: 朝日 | Q25: ブランドバッグ | R25: LV アルマ | S25: 1 | T25: 30000 | U25: 60000 | V25: =U25-T25 -> 30000 | W25: 本部 | X25: 45170 | Y25: 45172 | Z25: 〇 | AA25: 可 | AB25: 可 | AC25: 有 | AD25: 9/1DM発送
A26: 2 | B26: 45170 | C26: =IF(B26="","",TEXT(B26,"aaa")) -> 金 | D26: 山田太朗 | Q26: ブランド時計 | R26: RX デイトジャスト 16233 本体のみ | S26: 1 | T26: 490000 | U26: 700000 | V26: =U26-T26 -> 210000 | W26: 本部 | X26: 45170
A27: 3 | B27: 45170 | C27: =IF(B27="","",TEXT(B27,"aaa")) -> 金 | D27: 山田花子 | E27: 17時台 | F27: 出張 | G27: 成立 | I27: 女性 | J27: 33 | N27: 神奈川県横浜市西区2-2-2 | O27: テレビ(CM) | Q27: 貴金属製品 | R27: Pt900 リング 5.4g/ エメラルド3.12ct | S27: 1 | T27: 20000 | U27: 80000 | V27: =U27-T27 -> 60000 | W27: 本部 | X27: 45171 | Y27: 45173 | Z27: ✕ | AA27: 不可 | AB27: 不可 | AC27: 無
A28: 4-1 | B28: 45170 | C28: =IF(B28="","",TEXT(B28,"aaa")) -> 金 | D28: 山田花子 | R28: コイントップ3.1g | S28: 1 | T28: 12500 | U28: 22500 | V28: =U28-T28 -> 10000 | W28: 本部 | X28: 45171 | Y28: 45173
A29: 4-2 | B29: 45170 | C29: =IF(B29="","",TEXT(B29,"aaa")) -> 金 | D29: 山田花子 | R29: ネックレス7.3g | S29: 1 | T29: 37500 | U29: 67500 | V29: =U29-T29 -> 30000 | W29: その他 | X29: 45171 | Y29: 45173
A30: 5 | B30: 45170 | C30: =IF(B30="","",TEXT(B30,"aaa")) -> 金 | D30: 山田花子 | Q30: 貴金属製品 | R30: K18 リング 3.2g D0.3ct | S30: 1 | T30: 15000 | U30: 30000 | V30: =U30-T30 -> 15000 | W30: 本部 | X30: 45171 | Y30: 45173
A31: 6 | B31: 45170 | C31: =IF(B31="","",TEXT(B31,"aaa")) -> 金 | D31: 高橋太郎 | E31: 19時以降 | F31: 店舗 | G31: 不成立 | I31: 女性 | J31: 45 | N31: 神奈川県横浜市西区3-3-3 | O31: リピーター | Q31: ブランド時計 | R31: RX 16710 | S31: 1 | V31: =U31-T31 -> 0 | AD31: 家族と相談してから持ってくる
A32: 7 | B32: 45171 | C32: =IF(B32="","",TEXT(B32,"aaa")) -> 土 | D32: 山田太郎 | E32: 13時台 | F32: 店舗 | G32: 成立 | I32: 男性 | J32: 55 | N32: 神奈川県横浜市西区4-4-4 | O32: HP(PC) | Q32: バラ切手 | R32: バラ切手 詳細別紙 | S32: 100 | T32: 100000 | U32: 300000 | V32: =U32-T32 -> 200000 | W32: 本部 | X32: 45171 | Z32: 〇 | AA32: 可 | AB32: 不可 | AC32: 有 | AD32: 9/3架電(不在)
A33: 8 | B33: 45171 | C33: =IF(B33="","",TEXT(B33,"aaa")) -> 土 | D33: 山田太郎 | Q33: ブランド時計 | R33: バシュロンコンスタンタン オーヴァーシーズ | S33: 1 | T33: 500000 | U33: 590000 | V33: =U33-T33 -> 90000 | W33: 本部 | X33: 45171 | Y33: 45173
A34: 9 | B34: 45172 | C34: =IF(B34="","",TEXT(B34,"aaa")) -> 日 | D34: 山田花子 | E34: 12時台 | F34: 店舗 | G34: 成立 | I34: 女性 | J34: 67 | N34: 神奈川県横浜市西区5-5-5 | O34: ティッシュ | Q34: テレカ | R34: 50度テレカ | S34: 10 | T34: 3000 | U34: 10000 | V34: =U34-T34 -> 7000 | W34: 本部 | Z34: 〇 | AA34: 不可 | AB34: 可 | AC34: 有
A35: 10 | B35: 45172 | C35: =IF(B35="","",TEXT(B35,"aaa")) -> 日 | D35: 山田花子 | Q35: 金券 | R35: 百貨店共通券1,000円 | S35: 10 | T35: 5000 | U35: 7000 | V35: =U35-T35 -> 2000 | W35: 本部
A36: 11 | B36: 45172 | C36: =IF(B36="","",TEXT(B36,"aaa")) -> 日 | D36: 山田花子 | Q36: ブランド時計 | R36: オメガ スピードマスター | S36: 1 | T36: 200000 | U36: 500000 | V36: =U36-T36 -> 300000 | W36: 本部
A37: 12 | B37: 45172 | C37: =IF(B37="","",TEXT(B37,"aaa")) -> 日 | D37: 山田花子 | Q37: ブランドバッグ | R37: シャネルマトラッセ チェーンショルダー | S37: 1 | T37: 50000 | U37: 100000 | V37: =U37-T37 -> 50000 | W37: 本部
