Workbook

Sheet 事前入金明細書
A1: 店舗番号
A2: 送り状番号
B3: ブランド課 買取明細書 | D3: おたからや FC加盟店様用 | I3: 発送日 | J3: 2025年 | K3: 0 | L3: 0
I4: 到着日 | J4: 2025年 | K4: 0 | L4: 0
B8: 店舗名: | E8: 店 | H8: 合計金額 | J8: =SUM(H29:H48) -> 0
B9: 貴社名: | E9: 様
B10: インボイス登録番号: | H10: 10％対象税抜価格 | J10: =J8-J11 -> 0
B11: 貴社住所: | H11: 10%対象消費税 | J11: =ROUNDDOWN(J8-J8*100/110,0) -> 0
H12: 非課税対象 | J12: 0
H13: 税込合計 | J13: =SUM(J10:L12) -> 0
B15: 事前入金 専用 買取依頼書 | E15: 右記本部 確認欄 | F15: 責任者 | G15: 経理
F16: =J5 -> 0
E17: 日付
B19: 発送商品と一緒に、この用紙を同梱してください。
B22: ※通常の査定依頼品と事前入金の伝票は分けて記入ください。
B24: 【備考】 ・消費税計算：全て切捨て計算。税込金額合計から消費税を算出しております。
A26: 小物類点数 | C26: =COUNTIF(F29:F1000,"バッグ・小物") -> 0 | E26: 小物類金額 | F26: =SUMIFS(H29:H1000,F29:F1000,"バッグ・小物") -> 0 | I26: 買取金額 | J26: =F26+F27 -> 0
A27: 時計点数 | C27: =COUNTIF(F29:F1000,"時計") -> 0 | E27: 時計金額 | F27: =SUMIFS(H29:H1000,F29:F1000,"時計") -> 0
A28: 梱包 ✓欄 | B28: No. | C28: 商品名 | F28: 分類 | G28: 数量 | H28: 査定金額 | I28: 税区分 | J28: 査定者 | K28: 備考 | L28: 査定日
A29: □ | B29: 1 | I29: 0.1
A30: □ | B30: =B29+1 -> 2 | I30: 0.1
A31: □ | B31: =B30+1 -> 3 | I31: 0.1
A32: □ | B32: =B31+1 -> 4 | I32: 0.1
A33: □ | B33: =B32+1 -> 5 | I33: 0.1
A34: □ | B34: =B33+1 -> 6 | I34: 0.1
A35: □ | B35: =B34+1 -> 7 | I35: 0.1
A36: □ | B36: =B35+1 -> 8 | I36: 0.1
A37: □ | B37: =B36+1 -> 9 | I37: 0.1
A38: □ | B38: =B37+1 -> 10 | I38: 0.1
A39: □ | B39: =B38+1 -> 11 | I39: 0.1
A40: □ | B40: =B39+1 -> 12 | I40: 0.1
A41: □ | B41: =B40+1 -> 13 | I41: 0.1
... A48: □ | B48: =B47+1 -> 20 | I48: 0.1

Sheet 記入例
A1: 店舗番号 | C1: ○○○○
A2: 送り状番号 | C2: ○○○○-○○○○-○○○○
B3: ブランド課 買取明細書 | D3: おたからや FC加盟店様用 | I3: 発送日 | J3: 2025年 | K3: 12 | L3: 1
I4: 到着日 | J4: 2025年 | K4: 12 | L4: 2
B8: 店舗名:○○○○ | E8: 店 | H8: 合計金額 | J8: =SUM(H29:H48) -> 1000000
B9: 貴社名:○○○○ | E9: 様
B10: インボイス登録番号:○○○○○○○○ | H10: 10％対象税抜価格 | J10: =J8-J11 -> 909091
B11: 住所:○○○○○○○○ | H11: 10%対象消費税 | J11: =ROUNDDOWN(J8-J8*100/110,0) -> 90909
H12: 非課税対象 | J12: 0
H13: 税込合計 | J13: =SUM(J10:L12) -> 1000000
B15: 事前入金 専用 買取依頼書 | E15: 右記本部 確認欄 | F15: 責任者 | G15: 経理
F16: =J5 -> 0
E17: 日付
B19: 発送商品と一緒に、この用紙を同梱してください。
B22: ※通常の査定依頼品と事前入金の伝票は分けて記入ください。
B24: 【備考】 ・消費税計算：全て切捨て計算。税込金額合計から消費税を算出しております。
A26: 小物類点数 | C26: =COUNTIF(F29:F1000,"バッグ・小物") -> 0 | E26: 小物類金額 | F26: =SUMIFS(H29:H1000,F29:F1000,"バッグ・小物") -> 0 | I26: 買取金額 | J26: =F26+F27 -> 1000000
A27: 時計点数 | C27: =COUNTIF(F29:F1000,"時計") -> 1 | E27: 時計金額 | F27: =SUMIFS(H29:H1000,F29:F1000,"時計") -> 1000000
A28: 梱包 ✓欄 | B28: No. | C28: 商品名 | F28: 分類 | G28: 数量 | H28: 査定金額 | I28: 税区分 | J28: 査定者 | K28: 備考 | L28: 査定日
A29: □ | B29: 1 | C29: ロレックス 稼働 箱、ギャラ有 | F29: 時計 | G29: 1 | H29: 1000000 | I29: 0.1 | J29: 神田 | K29: キャンペーン込み | L29: 45992
A30: □ | B30: =B29+1 -> 2 | I30: 0.1
A31: □ | B31: =B30+1 -> 3 | I31: 0.1
A32: □ | B32: =B31+1 -> 4 | I32: 0.1
A33: □ | B33: =B32+1 -> 5 | I33: 0.1
A34: □ | B34: =B33+1 -> 6 | I34: 0.1
A35: □ | B35: =B34+1 -> 7 | I35: 0.1
A36: □ | B36: =B35+1 -> 8 | I36: 0.1
A37: □ | B37: =B36+1 -> 9 | I37: 0.1
A38: □ | B38: =B37+1 -> 10 | I38: 0.1
A39: □ | B39: =B38+1 -> 11 | I39: 0.1
A40: □ | B40: =B39+1 -> 12 | I40: 0.1
A41: □ | B41: =B40+1 -> 13 | I41: 0.1
... A48: □ | B48: =B47+1 -> 20 | I48: 0.1

Sheet 支払通知書
A1: 店舗番号 | C1: =事前入金明細書!C1 -> 0 | N1: 作成番号 | O1: 2
A3: ブランド課 買取明細書 | I3: 振込日 | J3: 45173
A6: =事前入金明細書!B8 -> 店舗名: | L6: 株式会社いーふらん
A7: =事前入金明細書!B9 -> 貴社名: | E7: 様 | L7: 登録番号:T2020001036626
A8: =事前入金明細書!B10 -> インボイス登録番号: | L8: 神奈川県横浜市西区みなとみらい2-3-3
A9: =事前入金明細書!B11 -> 貴社住所: | L9: クイーンズタワーB 15階
A11: 支払合計金額 | D11: =J15 -> 0
A12: ※送付後一定期間内に連絡が無い場合、確認済とします。 | H12: 10％対象税抜価格 | J12: =事前入金明細書!J10 -> 0
H13: 10%対象消費税 | J13: =事前入金明細書!J11 -> 0
H14: 非課税対象 | J14: =事前入金明細書!J12 -> 0 | N14: =SUM(H22:H91) -> #REF!
H15: 税込合計 | J15: =SUM(J12:L14) -> 0
A17: 【備考】 | N17: ↓数式いじらないで | P17: 通常店 | Q17: プラチナ | X17: 300000
A18: ・消費税計算：全て切捨て計算。税込金額合計から消費税を算出しております。 | N18: 店舗名 | O18: 到着日 | P18: 担当者 | Q18: チーム | R18: 買取金額 時計 | S18: 買取金額 バッグ・小物 | T18: 合計金額 | U18: 時計買取点数 | V18: バッグ小物 買取点数 | W18: 合計点数 | X18: キャンペーン 集計用
N19: =A6 -> 店舗名: | O19: 事前入金 | P19: =IF(J5="プラチナ",Q17,IF(J5="渉外部",P17,0)) -> 0 | Q19: =IF(P19="プラチナ","P",IF(P19="通常店","N",0)) -> 0 | R19: =P23 -> 0 | S19: =P24 -> 0 | T19: =R19+S19 -> 0 | U19: =Q23 -> 0 | V19: =Q24 -> 0 | W19: =U19+V19 -> 0 | X19: =COUNTIFS(F22:F46,O23,H22:H46,">="&X17) -> 0
A21: 梱包 ✓欄 | B21: No. | C21: 商品名 | F21: 分類 | G21: 数量 | H21: 査定金額 | I21: 税区分 | J21: 備考 | L21: 査定日
A22: □ | B22: 1 | C22: =IF(事前入金明細書!C29=0,"",事前入金明細書!C29) | F22: =IF(事前入金明細書!F29=0,"",事前入金明細書!F29) | G22: =IF(事前入金明細書!G29=0,"",事前入金明細書!G29) | H22: =IF(事前入金明細書!H29=0,"",事前入金明細書!H29) | I22: =IF(事前入金明細書!I29=0,"",事前入金明細書!I29) -> 0.1 | J22: =IF(事前入金明細書!K29=0,"",事前入金明細書!K29) | L22: =IF(事前入金明細書!L29=0,"",事前入金明細書!L29) | N22: 買取時用計算式→ | O22: 合計 | P22: 金額 | Q22: 点数
A23: □ | B23: =B22+1 -> 2 | C23: =IF(事前入金明細書!C30=0,"",事前入金明細書!C30) | F23: =IF(事前入金明細書!F30=0,"",事前入金明細書!F30) | G23: =IF(事前入金明細書!G30=0,"",事前入金明細書!G30) | H23: =IF(事前入金明細書!H30=0,"",事前入金明細書!H30) | I23: =IF(事前入金明細書!I30=0,"",事前入金明細書!I30) -> 0.1 | J23: =IF(事前入金明細書!K30=0,"",事前入金明細書!K30) | L23: =IF(事前入金明細書!L30=0,"",事前入金明細書!L30) | O23: 時計 | P23: =SUMIFS(H22:H46,F22:F46,"時計") -> 0 | Q23: =COUNTIF(F22:F46,O23) -> 0
A24: □ | B24: =B23+1 -> 3 | C24: =IF(事前入金明細書!C31=0,"",事前入金明細書!C31) | F24: =IF(事前入金明細書!F31=0,"",事前入金明細書!F31) | G24: =IF(事前入金明細書!G31=0,"",事前入金明細書!G31) | H24: =IF(事前入金明細書!H31=0,"",事前入金明細書!H31) | I24: =IF(事前入金明細書!I31=0,"",事前入金明細書!I31) -> 0.1 | J24: =IF(事前入金明細書!K31=0,"",事前入金明細書!K31) | L24: =IF(事前入金明細書!L31=0,"",事前入金明細書!L31) | O24: バッグ・小物 | P24: =SUMIFS(H22:H46,F22:F46,"バッグ・小物") -> 0 | Q24: =COUNTIF(F22:F46,O24) -> 0
A25: □ | B25: =B24+1 -> 4 | C25: =IF(事前入金明細書!C32=0,"",事前入金明細書!C32) | F25: =IF(事前入金明細書!F32=0,"",事前入金明細書!F32) | G25: =IF(事前入金明細書!G32=0,"",事前入金明細書!G32) | H25: =IF(事前入金明細書!H32=0,"",事前入金明細書!H32) | I25: =IF(事前入金明細書!I32=0,"",事前入金明細書!I32) -> 0.1 | J25: =IF(事前入金明細書!K32=0,"",事前入金明細書!K32) | L25: =IF(事前入金明細書!L32=0,"",事前入金明細書!L32)
A26: □ | B26: =B25+1 -> 5 | C26: =IF(事前入金明細書!C33=0,"",事前入金明細書!C33) | F26: =IF(事前入金明細書!F33=0,"",事前入金明細書!F33) | G26: =IF(事前入金明細書!G33=0,"",事前入金明細書!G33) | H26: =IF(事前入金明細書!H33=0,"",事前入金明細書!H33) | I26: =IF(事前入金明細書!I33=0,"",事前入金明細書!I33) -> 0.1 | J26: =IF(事前入金明細書!K33=0,"",事前入金明細書!K33) | L26: =IF(事前入金明細書!L33=0,"",事前入金明細書!L33)
A27: □ | B27: =B26+1 -> 6 | C27: =IF(事前入金明細書!C34=0,"",事前入金明細書!C34) | F27: =IF(事前入金明細書!F34=0,"",事前入金明細書!F34) | G27: =IF(事前入金明細書!G34=0,"",事前入金明細書!G34) | H27: =IF(事前入金明細書!H34=0,"",事前入金明細書!H34) | I27: =IF(事前入金明細書!I34=0,"",事前入金明細書!I34) -> 0.1 | J27: =IF(事前入金明細書!K34=0,"",事前入金明細書!K34) | L27: =IF(事前入金明細書!L34=0,"",事前入金明細書!L34)
A28: □ | B28: =B27+1 -> 7 | C28: =IF(事前入金明細書!C35=0,"",事前入金明細書!C35) | F28: =IF(事前入金明細書!F35=0,"",事前入金明細書!F35) | G28: =IF(事前入金明細書!G35=0,"",事前入金明細書!G35) | H28: =IF(事前入金明細書!H35=0,"",事前入金明細書!H35) | I28: =IF(事前入金明細書!I35=0,"",事前入金明細書!I35) -> 0.1 | J28: =IF(事前入金明細書!K35=0,"",事前入金明細書!K35) | L28: =IF(事前入金明細書!L35=0,"",事前入金明細書!L35)
A29: □ | B29: =B28+1 -> 8 | C29: =IF(事前入金明細書!C36=0,"",事前入金明細書!C36) | F29: =IF(事前入金明細書!F36=0,"",事前入金明細書!F36) | G29: =IF(事前入金明細書!G36=0,"",事前入金明細書!G36) | H29: =IF(事前入金明細書!H36=0,"",事前入金明細書!H36) | I29: =IF(事前入金明細書!I36=0,"",事前入金明細書!I36) -> 0.1 | J29: =IF(事前入金明細書!K36=0,"",事前入金明細書!K36) | L29: =IF(事前入金明細書!L36=0,"",事前入金明細書!L36)
A30: □ | B30: =B29+1 -> 9 | C30: =IF(事前入金明細書!C37=0,"",事前入金明細書!C37) | F30: =IF(事前入金明細書!F37=0,"",事前入金明細書!F37) | G30: =IF(事前入金明細書!G37=0,"",事前入金明細書!G37) | H30: =IF(事前入金明細書!H37=0,"",事前入金明細書!H37) | I30: =IF(事前入金明細書!I37=0,"",事前入金明細書!I37) -> 0.1 | J30: =IF(事前入金明細書!K37=0,"",事前入金明細書!K37) | L30: =IF(事前入金明細書!L37=0,"",事前入金明細書!L37)
A31: □ | B31: =B30+1 -> 10 | C31: =IF(事前入金明細書!C38=0,"",事前入金明細書!C38) | F31: =IF(事前入金明細書!F38=0,"",事前入金明細書!F38) | G31: =IF(事前入金明細書!G38=0,"",事前入金明細書!G38) | H31: =IF(事前入金明細書!H38=0,"",事前入金明細書!H38) | I31: =IF(事前入金明細書!I38=0,"",事前入金明細書!I38) -> 0.1 | J31: =IF(事前入金明細書!K38=0,"",事前入金明細書!K38) | L31: =IF(事前入金明細書!L38=0,"",事前入金明細書!L38)
A32: □ | B32: =B31+1 -> 11 | C32: =IF(事前入金明細書!C39=0,"",事前入金明細書!C39) | F32: =IF(事前入金明細書!F39=0,"",事前入金明細書!F39) | G32: =IF(事前入金明細書!G39=0,"",事前入金明細書!G39) | H32: =IF(事前入金明細書!H39=0,"",事前入金明細書!H39) | I32: =IF(事前入金明細書!I39=0,"",事前入金明細書!I39) -> 0.1 | J32: =IF(事前入金明細書!K39=0,"",事前入金明細書!K39) | L32: =IF(事前入金明細書!L39=0,"",事前入金明細書!L39)
A33: □ | B33: =B32+1 -> 12 | C33: =IF(事前入金明細書!C40=0,"",事前入金明細書!C40) | F33: =IF(事前入金明細書!F40=0,"",事前入金明細書!F40) | G33: =IF(事前入金明細書!G40=0,"",事前入金明細書!G40) | H33: =IF(事前入金明細書!H40=0,"",事前入金明細書!H40) | I33: =IF(事前入金明細書!I40=0,"",事前入金明細書!I40) -> 0.1 | J33: =IF(事前入金明細書!K40=0,"",事前入金明細書!K40) | L33: =IF(事前入金明細書!L40=0,"",事前入金明細書!L40)
A34: □ | B34: =B33+1 -> 13 | C34: =IF(事前入金明細書!C41=0,"",事前入金明細書!C41) | F34: =IF(事前入金明細書!F41=0,"",事前入金明細書!F41) | G34: =IF(事前入金明細書!G41=0,"",事前入金明細書!G41) | H34: =IF(事前入金明細書!H41=0,"",事前入金明細書!H41) | I34: =IF(事前入金明細書!I41=0,"",事前入金明細書!I41) -> 0.1 | J34: =IF(事前入金明細書!K41=0,"",事前入金明細書!K41) | L34: =IF(事前入金明細書!L41=0,"",事前入金明細書!L41)
A35: □ | B35: =B34+1 -> 14 | C35: =IF(事前入金明細書!C42=0,"",事前入金明細書!C42) | F35: =IF(事前入金明細書!F42=0,"",事前入金明細書!F42) | G35: =IF(事前入金明細書!G42=0,"",事前入金明細書!G42) | H35: =IF(事前入金明細書!H42=0,"",事前入金明細書!H42) | I35: =IF(事前入金明細書!I42=0,"",事前入金明細書!I42) -> 0.1 | J35: =IF(事前入金明細書!K42=0,"",事前入金明細書!K42) | L35: =IF(事前入金明細書!L42=0,"",事前入金明細書!L42)
A36: □ | B36: =B35+1 -> 15 | C36: =IF(事前入金明細書!C43=0,"",事前入金明細書!C43) | F36: =IF(事前入金明細書!F43=0,"",事前入金明細書!F43) | G36: =IF(事前入金明細書!G43=0,"",事前入金明細書!G43) | H36: =IF(事前入金明細書!H43=0,"",事前入金明細書!H43) | I36: =IF(事前入金明細書!I43=0,"",事前入金明細書!I43) -> 0.1 | J36: =IF(事前入金明細書!K43=0,"",事前入金明細書!K43) | L36: =IF(事前入金明細書!L43=0,"",事前入金明細書!L43)
... A41: □ | B41: =B40+1 -> 20 | C41: =IF(事前入金明細書!C48=0,"",事前入金明細書!C48) | F41: =IF(事前入金明細書!F48=0,"",事前入金明細書!F48) | G41: =IF(事前入金明細書!G48=0,"",事前入金明細書!G48) | H41: =IF(事前入金明細書!H48=0,"",事前入金明細書!H48) | I41: =IF(事前入金明細書!I48=0,"",事前入金明細書!I48) -> 0.1 | J41: =IF(事前入金明細書!K48=0,"",事前入金明細書!K48) | L41: =IF(事前入金明細書!L48=0,"",事前入金明細書!L48)
A42: □ | B42: =B41+1 -> 21 | C42: =IF(事前入金明細書!#REF!=0,"",事前入金明細書!#REF!) -> #REF! | F42: =IF(事前入金明細書!#REF!=0,"",事前入金明細書!#REF!) -> #REF! | G42: =IF(事前入金明細書!#REF!=0,"",事前入金明細書!#REF!) -> #REF! | H42: =IF(事前入金明細書!#REF!=0,"",事前入金明細書!#REF!) -> #REF! | I42: =IF(事前入金明細書!#REF!=0,"",事前入金明細書!#REF!) -> #REF! | J42: =IF(事前入金明細書!#REF!=0,"",事前入金明細書!#REF!) -> #REF! | L42: =IF(事前入金明細書!#REF!=0,"",事前入金明細書!#REF!) -> #REF!
A43: □ | B43: =B42+1 -> 22 | C43: =IF(事前入金明細書!#REF!=0,"",事前入金明細書!#REF!) -> #REF! | F43: =IF(事前入金明細書!#REF!=0,"",事前入金明細書!#REF!) -> #REF! | G43: =IF(事前入金明細書!#REF!=0,"",事前入金明細書!#REF!) -> #REF! | H43: =IF(事前入金明細書!#REF!=0,"",事前入金明細書!#REF!) -> #REF! | I43: =IF(事前入金明細書!#REF!=0,"",事前入金明細書!#REF!) -> #REF! | J43: =IF(事前入金明細書!#REF!=0,"",事前入金明細書!#REF!) -> #REF! | L43: =IF(事前入金明細書!#REF!=0,"",事前入金明細書!#REF!) -> #REF!
A44: □ | B44: =B43+1 -> 23 | C44: =IF(事前入金明細書!#REF!=0,"",事前入金明細書!#REF!) -> #REF! | F44: =IF(事前入金明細書!#REF!=0,"",事前入金明細書!#REF!) -> #REF! | G44: =IF(事前入金明細書!#REF!=0,"",事前入金明細書!#REF!) -> #REF! | H44: =IF(事前入金明細書!#REF!=0,"",事前入金明細書!#REF!) -> #REF! | I44: =IF(事前入金明細書!#REF!=0,"",事前入金明細書!#REF!) -> #REF! | J44: =IF(事前入金明細書!#REF!=0,"",事前入金明細書!#REF!) -> #REF! | L44: =IF(事前入金明細書!#REF!=0,"",事前入金明細書!#REF!) -> #REF!
A45: □ | B45: =B44+1 -> 24 | C45: =IF(事前入金明細書!#REF!=0,"",事前入金明細書!#REF!) -> #REF! | F45: =IF(事前入金明細書!#REF!=0,"",事前入金明細書!#REF!) -> #REF! | G45: =IF(事前入金明細書!#REF!=0,"",事前入金明細書!#REF!) -> #REF! | H45: =IF(事前入金明細書!#REF!=0,"",事前入金明細書!#REF!) -> #REF! | I45: =IF(事前入金明細書!#REF!=0,"",事前入金明細書!#REF!) -> #REF! | J45: =IF(事前入金明細書!#REF!=0,"",事前入金明細書!#REF!) -> #REF! | L45: =IF(事前入金明細書!#REF!=0,"",事前入金明細書!#REF!) -> #REF!
A46: □ | B46: =B45+1 -> 25 | C46: =IF(事前入金明細書!#REF!=0,"",事前入金明細書!#REF!) -> #REF! | F46: =IF(事前入金明細書!#REF!=0,"",事前入金明細書!#REF!) -> #REF! | G46: =IF(事前入金明細書!#REF!=0,"",事前入金明細書!#REF!) -> #REF! | H46: =IF(事前入金明細書!#REF!=0,"",事前入金明細書!#REF!) -> #REF! | I46: =IF(事前入金明細書!#REF!=0,"",事前入金明細書!#REF!) -> #REF! | J46: =IF(事前入金明細書!#REF!=0,"",事前入金明細書!#REF!) -> #REF! | L46: =IF(事前入金明細書!#REF!=0,"",事前入金明細書!#REF!) -> #REF!
A47: □ | B47: =B46+1 -> 26 | C47: =IF(事前入金明細書!#REF!=0,"",事前入金明細書!#REF!) -> #REF! | F47: =IF(事前入金明細書!#REF!=0,"",事前入金明細書!#REF!) -> #REF! | G47: =IF(事前入金明細書!#REF!=0,"",事前入金明細書!#REF!) -> #REF! | H47: =IF(事前入金明細書!#REF!=0,"",事前入金明細書!#REF!) -> #REF! | I47: =IF(事前入金明細書!#REF!=0,"",事前入金明細書!#REF!) -> #REF! | J47: =IF(事前入金明細書!#REF!=0,"",事前入金明細書!#REF!) -> #REF! | L47: =IF(事前入金明細書!#REF!=0,"",事前入金明細書!#REF!) -> #REF!
A48: □ | B48: =B47+1 -> 27 | C48: =IF(事前入金明細書!#REF!=0,"",事前入金明細書!#REF!) -> #REF! | F48: =IF(事前入金明細書!#REF!=0,"",事前入金明細書!#REF!) -> #REF! | G48: =IF(事前入金明細書!#REF!=0,"",事前入金明細書!#REF!) -> #REF! | H48: =IF(事前入金明細書!#REF!=0,"",事前入金明細書!#REF!) -> #REF! | I48: =IF(事前入金明細書!#REF!=0,"",事前入金明細書!#REF!) -> #REF! | J48: =IF(事前入金明細書!#REF!=0,"",事前入金明細書!#REF!) -> #REF! | L48: =IF(事前入金明細書!#REF!=0,"",事前入金明細書!#REF!) -> #REF!
A49: □ | B49: =B48+1 -> 28 | C49: =IF(事前入金明細書!#REF!=0,"",事前入金明細書!#REF!) -> #REF! | F49: =IF(事前入金明細書!#REF!=0,"",事前入金明細書!#REF!) -> #REF! | G49: =IF(事前入金明細書!#REF!=0,"",事前入金明細書!#REF!) -> #REF! | H49: =IF(事前入金明細書!#REF!=0,"",事前入金明細書!#REF!) -> #REF! | I49: =IF(事前入金明細書!#REF!=0,"",事前入金明細書!#REF!) -> #REF! | J49: =IF(事前入金明細書!#REF!=0,"",事前入金明細書!#REF!) -> #REF! | L49: =IF(事前入金明細書!#REF!=0,"",事前入金明細書!#REF!) -> #REF!
A50: □ | B50: =B49+1 -> 29 | C50: =IF(事前入金明細書!#REF!=0,"",事前入金明細書!#REF!) -> #REF! | F50: =IF(事前入金明細書!#REF!=0,"",事前入金明細書!#REF!) -> #REF! | G50: =IF(事前入金明細書!#REF!=0,"",事前入金明細書!#REF!) -> #REF! | H50: =IF(事前入金明細書!#REF!=0,"",事前入金明細書!#REF!) -> #REF! | I50: =IF(事前入金明細書!#REF!=0,"",事前入金明細書!#REF!) -> #REF! | J50: =IF(事前入金明細書!#REF!=0,"",事前入金明細書!#REF!) -> #REF! | L50: =IF(事前入金明細書!#REF!=0,"",事前入金明細書!#REF!) -> #REF!
A51: □ | B51: =B50+1 -> 30 | C51: =IF(事前入金明細書!#REF!=0,"",事前入金明細書!#REF!) -> #REF! | F51: =IF(事前入金明細書!#REF!=0,"",事前入金明細書!#REF!) -> #REF! | G51: =IF(事前入金明細書!#REF!=0,"",事前入金明細書!#REF!) -> #REF! | H51: =IF(事前入金明細書!#REF!=0,"",事前入金明細書!#REF!) -> #REF! | I51: =IF(事前入金明細書!#REF!=0,"",事前入金明細書!#REF!) -> #REF! | J51: =IF(事前入金明細書!#REF!=0,"",事前入金明細書!#REF!) -> #REF! | L51: =IF(事前入金明細書!#REF!=0,"",事前入金明細書!#REF!) -> #REF!
A52: □ | B52: =B51+1 -> 31 | C52: =IF(事前入金明細書!#REF!=0,"",事前入金明細書!#REF!) -> #REF! | F52: =IF(事前入金明細書!#REF!=0,"",事前入金明細書!#REF!) -> #REF! | G52: =IF(事前入金明細書!#REF!=0,"",事前入金明細書!#REF!) -> #REF! | H52: =IF(事前入金明細書!#REF!=0,"",事前入金明細書!#REF!) -> #REF! | I52: =IF(事前入金明細書!#REF!=0,"",事前入金明細書!#REF!) -> #REF! | J52: =IF(事前入金明細書!#REF!=0,"",事前入金明細書!#REF!) -> #REF! | L52: =IF(事前入金明細書!#REF!=0,"",事前入金明細書!#REF!) -> #REF!
A53: □ | B53: =B52+1 -> 32 | C53: =IF(事前入金明細書!#REF!=0,"",事前入金明細書!#REF!) -> #REF! | F53: =IF(事前入金明細書!#REF!=0,"",事前入金明細書!#REF!) -> #REF! | G53: =IF(事前入金明細書!#REF!=0,"",事前入金明細書!#REF!) -> #REF! | H53: =IF(事前入金明細書!#REF!=0,"",事前入金明細書!#REF!) -> #REF! | I53: =IF(事前入金明細書!#REF!=0,"",事前入金明細書!#REF!) -> #REF! | J53: =IF(事前入金明細書!#REF!=0,"",事前入金明細書!#REF!) -> #REF! | L53: =IF(事前入金明細書!#REF!=0,"",事前入金明細書!#REF!) -> #REF!
... A91: □ | B91: =B90+1 -> 70 | C91: =IF(事前入金明細書!#REF!=0,"",事前入金明細書!#REF!) -> #REF! | F91: =IF(事前入金明細書!#REF!=0,"",事前入金明細書!#REF!) -> #REF! | G91: =IF(事前入金明細書!#REF!=0,"",事前入金明細書!#REF!) -> #REF! | H91: =IF(事前入金明細書!#REF!=0,"",事前入金明細書!#REF!) -> #REF! | I91: =IF(事前入金明細書!#REF!=0,"",事前入金明細書!#REF!) -> #REF! | J91: =IF(事前入金明細書!#REF!=0,"",事前入金明細書!#REF!) -> #REF! | L91: =IF(事前入金明細書!#REF!=0,"",事前入金明細書!#REF!) -> #REF!
